{"text_format":"1","workbook":"xlsx","n_sheets":7,"sheets":["INICIO","DATAS","ANUAL","FERIADOS","TURMAS","PERIODOS","CONTAR FERIAS"],"not_rendered":{"charts":0,"images":5,"macros":1,"external_links":0,"defined_names":22,"comments":5,"pivot_tables":0},"unopened":[],"bounds":{"document_bytes":16777216,"sheet_cells":100000,"rows_first":2000,"rows_last":500,"rows_between":2000,"halvings":0,"cell_chars":16384,"cell_head_chars":4096},"cells_cut":0,"cells_raw":0,"read":"whole","date_system":"1900"}

{"sheet":"INICIO","index":0,"n_rows":40,"n_cols":14,"rows_kept":40,"cut":false,"hidden":false,"merged":[[3,22,4,29],[8,2,8,11],[13,5,13,9],[11,14,11,15],[13,2,13,4],[2,2,2,8],[6,2,6,8],[7,2,7,8],[5,2,5,8],[3,2,3,8],[4,2,4,9]]}
[]
[null,null,"Esta folha de cálculo permite:",null,null,{"$f":" CONCATENATE(\"CONFIGURADO PARA O \",ANUAL!L20)","v":"CONFIGURADO PARA O ANO LETIVO 2012 - 2013"},null,null,null,null,{"$f":" CONCATENATE(\"COM \",FERIADOS!T33,\" FERIADO(S) MUNICIPAL(AIS)\")","v":"COM 0 FERIADO(S) MUNICIPAL(AIS)"}]
[null,null,"- configurar o ano letivo (início e fim de cada período), para níveis com e sem exame final e pré-escolar.",null,null,null,null,null,null,null,null,null,null,{"$f":"IF(OR((YEAR(DATAS!G18)-YEAR(DATAS!E17))<>1,(YEAR(DATAS!L18)-YEAR(DATAS!J17))<>1),\"ERRO NA DEFINIÇÃO DE DATAS PARA ANO LETIVO\",\"\")","v":""}]
[null,null,"- (re)definir os feriados nacionais suspensos e municipais em função da região para contagem das aulas previstas.*",null,null,null,null,null,null,null,null,null,null,{"$f":"IF(FERIADOS!U33<>0,\"ERRO EM DATAS FERIADOS MUNICIPAIS\",\"\")","v":""}]
[null,1,"- criar/imprimir um plano anual em A4, com as interrupções letivas previstas, feriados nacionais e aulas previstas por período/dia da semana."]
[null,2,"- criar/imprimir uma página síntese com o cálculo das aulas previstas por disciplina/turma, registar o nº de aulas dadas, contatos, reuniões …"]
[null,3,"- criar/imprimir plano (A4) por período editável (podem fazer-se anotações e guardá-las)."]
[null,null,"- fazer a contagem do período de férias."]
[null,null,"* Dada a extensa lista de feriados municipais, cerca de 70 por todo o país, torna-se impraticável a sua inclusão no calendário. No entanto, há opção de os contabilizar nas aulas previstas, definindo-os na página FERIADOS."]
[null,null,1,null,null,2,null,null,3]
[]
[]
[]
[null,null,null,null,null,"ÁREAS EDITÁVEIS"]
[null,null,null,"TURMAS",null,null,null,null,null,"PERÍODOS"]
[]
[]
[]
[]
[]
[]
[]
[]
[]
[]
[]
[]
[]
[]
[]
[]
[]
[]
[]
[]
[]
[]
[]
[null,null,null,null,null,null,null,null,null,"bom ano!"]
[null,null,null,null,null,null,null,null,null,"JJ"]

{"sheet":"DATAS","index":1,"n_rows":18,"n_cols":12,"rows_kept":18,"cut":false,"hidden":false,"merged":[[19,3,19,9],[14,3,14,7],[14,8,14,11],[5,3,5,7],[11,10,11,11],[12,10,12,11],[6,3,6,7],[11,3,12,9]]}
[]
[]
[]
[null,null,"Definição de datas para o ano letivo",null,null,null,null,null,null,{"$f":"YEAR(E17)","v":2012},{"$f":"J4+1","v":2013}]
[]
[null,null,null,"(Re)definir as datas nas células com fundo branco.",null,null,null,null,{"$f":"IF(OR((YEAR(DATAS!G18)-YEAR(DATAS!E17))<>1,(YEAR(DATAS!L18)-YEAR(DATAS!J17))<>1),\"ERRO NA DEFINIÇÃO DE DATAS PARA ANO LETIVO\",\"\")","v":""}]
[null,null,null,"Alterar também os feriados quando necessário."]
[]
[]
[]
[]
[null,null,null,"É conveniente atualizar todas as datas, mesmo que não se apliquem a alguma escola, para evitar erros na folha de cálculo",null,null,null,null,null,null,"ANO LETIVO"]
[null,null,null,null,null,null,null,null,null,null,{"$f":"CONCATENATE(J4,\" - \",K4)","v":"2012 - 2013"}]
[]
[null,null,null,"Pré-Esc., 1º, 2º, 3º, 4º, 5º, 7º, 8º e 10º anos",null,null,null,null,"6º, 9º 11º e 12º anos"]
[null,null,null,"SEM  EXAMES","1º P","2º P","3º P","Pré-Esc.","COM EXAMES","1º P","2º P","3º P"]
[null,null,null,"início","2012-09-13","2013-01-03","2013-04-02",null,"início","2012-09-13",{"$f":"F17","v":"2013-01-03"},{"$f":"G17","v":"2013-04-02"}]
[null,null,null,"fim","2012-12-14","2013-03-15","2013-06-14","2013-07-05","fim",{"$f":"E18","v":"2012-12-14"},{"$f":"F18","v":"2013-03-15"},"2013-06-07"]

{"sheet":"ANUAL","index":2,"n_rows":73,"n_cols":69,"rows_kept":73,"cut":false,"hidden":false,"merged":[[51,0,52,0],[51,1,52,1],[54,1,55,1],[54,0,56,0],[48,0,49,0],[48,1,49,1],[47,0,47,1],[50,0,50,1],[50,16,50,30],[42,0,46,0],[42,34,42,36],[7,30,7,31],[8,30,8,32],[12,30,12,32],[7,2,7,3],[8,2,8,4],[8,5,8,7],[9,2,9,4],[9,5,9,7],[10,2,10,4],[10,5,10,7],[11,2,11,4],[11,5,11,7],[12,2,12,4],[12,5,12,7],[12,33,12,35],[11,30,11,32],[8,33,8,35],[9,30,9,32],[9,33,9,35],[10,30,10,32],[10,33,10,35],[11,33,11,35],[18,38,18,39],[18,34,18,36],[18,63,18,64],[18,65,18,66],[18,67,18,68],[18,51,18,52],[18,53,18,54],[18,55,18,56],[18,57,18,58],[18,59,18,60],[18,61,18,62],[18,41,18,42],[18,43,18,44],[18,45,18,46],[18,47,18,48],[18,49,18,50],[17,15,17,31],[19,11,19,13],[18,0,18,1],[14,3,14,7],[14,8,14,11],[15,13,15,14],[19,3,19,10],[18,12,18,14],[18,5,18,10],[39,18,39,19],[38,18,38,19],[38,20,38,21],[40,16,40,17],[40,18,40,19],[40,20,40,21],[38,16,38,17],[39,16,39,17],[40,22,40,23],[40,24,40,25],[39,20,39,21],[39,22,39,23],[39,24,39,25],[26,17,27,19],[37,20,37,25],[37,18,37,19],[37,16,37,17],[38,22,38,23],[38,24,38,25]]}
[null,null,null,null,"Jan","Apr","Jul","Oct",null,null,null,null,null,null,"Feb","May","Aug","Nov",null,null,null,null,"Mar","Jun","Sep","Dec",null,null,null,null,null,null,"Jan","Apr","Jul","Oct",null,null,null,null,null,null,"Feb","May","Aug","Nov",null,null,null,null,"Mar","Jun","Sep","Dec"]
[null,null,null,null,{"$f":"\"1/1/\" &N17","v":"1/1/2012"},{"$f":"W2+31","v":"2012-04-01"},{"$f":"X2+30","v":"2012-07-01"},{"$f":"Y2+30","v":"2012-10-01"},null,null,null,null,null,{"$f":"IF(OR((AND(MOD(YEAR(E2),4)=0,MOD(YEAR(E2),100)<>0)), (MOD(YEAR(E2),400)=0)), 29,28)","v":29},{"$f":"E2+31","v":"2012-02-01"},{"$f":"F2+30","v":"2012-05-01"},{"$f":"G2+31","v":"2012-08-01"},{"$f":"H2+31","v":"2012-11-01"},null,null,null,null,{"$f":"O2+N2","v":"2012-03-01"},{"$f":"P2+31","v":"2012-06-01"},{"$f":"Q2+31","v":"2012-09-01"},{"$f":"R2+30","v":"2012-12-01"},null,null,null,null,null,null,{"$f":"\"1/1/\" &O17","v":"1/1/2013"},{"$f":"AY2+31","v":"2013-04-01"},{"$f":"AZ2+30","v":"2013-07-01"},{"$f":"BA2+30","v":"2013-10-01"},null,null,null,null,null,{"$f":"IF(OR((AND(MOD(YEAR(AG2),4)=0,MOD(YEAR(AG2),100)<>0)), (MOD(YEAR(AG2),400)=0)), 29,28)","v":28},{"$f":"AG2+31","v":"2013-02-01"},{"$f":"AH2+30","v":"2013-05-01"},{"$f":"AI2+31","v":"2013-08-01"},{"$f":"AJ2+31","v":"2013-11-01"},null,null,null,null,{"$f":"AQ2+AP2","v":"2013-03-01"},{"$f":"AR2+31","v":"2013-06-01"},{"$f":"AS2+31","v":"2013-09-01"},{"$f":"AT2+30","v":"2013-12-01"}]
[null,null,"Jan",null,{"$f":"IF(WEEKDAY($E$2)=2,1,0)","v":0},{"$f":"IF(WEEKDAY($E$2)=3,1,0)","v":0},{"$f":"IF(WEEKDAY($E$2)=4,1,0)","v":0},{"$f":"IF(WEEKDAY($E$2)=5,1,0)","v":0},{"$f":"IF(WEEKDAY($E$2)=6,1,0)","v":0},{"$f":"IF(WEEKDAY($E$2)=7,1,0)","v":0},{"$f":"IF(WEEKDAY($E$2)=1,1,0)","v":1},"Feb",null,{"$f":"IF(WEEKDAY($O$2)=2,1,0)","v":0},{"$f":"IF(WEEKDAY($O$2)=3,1,0)","v":0},{"$f":"IF(WEEKDAY($O$2)=4,1,0)","v":1},{"$f":"IF(WEEKDAY($O$2)=5,1,0)","v":0},{"$f":"IF(WEEKDAY($O$2)=6,1,0)","v":0},{"$f":"IF(WEEKDAY($O$2)=7,1,0)","v":0},{"$f":"IF(WEEKDAY($O$2)=1,1,0)","v":0},"Mar",null,{"$f":"IF(WEEKDAY($W$2)=2,1,0)","v":0},{"$f":"IF(WEEKDAY($W$2)=3,1,0)","v":0},{"$f":"IF(WEEKDAY($W$2)=4,1,0)","v":0},{"$f":"IF(WEEKDAY($W$2)=5,1,0)","v":1},{"$f":"IF(WEEKDAY($W$2)=6,1,0)","v":0},{"$f":"IF(WEEKDAY($W$2)=7,1,0)","v":0},{"$f":"IF(WEEKDAY($W$2)=1,1,0)","v":0},null,"Jan",null,{"$f":"IF(WEEKDAY($AG$2)=2,1,0)","v":0},{"$f":"IF(WEEKDAY($AG$2)=3,1,0)","v":1},{"$f":"IF(WEEKDAY($AG$2)=4,1,0)","v":0},{"$f":"IF(WEEKDAY($AG$2)=5,1,0)","v":0},{"$f":"IF(WEEKDAY($AG$2)=6,1,0)","v":0},{"$f":"IF(WEEKDAY($AG$2)=7,1,0)","v":0},{"$f":"IF(WEEKDAY($AG$2)=1,1,0)","v":0},"Feb",null,{"$f":"IF(WEEKDAY($AQ$2)=2,1,0)","v":0},{"$f":"IF(WEEKDAY($AQ$2)=3,1,0)","v":0},{"$f":"IF(WEEKDAY($AQ$2)=4,1,0)","v":0},{"$f":"IF(WEEKDAY($AQ$2)=5,1,0)","v":0},{"$f":"IF(WEEKDAY($AQ$2)=6,1,0)","v":1},{"$f":"IF(WEEKDAY($AQ$2)=7,1,0)","v":0},{"$f":"IF(WEEKDAY($AQ$2)=1,1,0)","v":0},"Mar",null,{"$f":"IF(WEEKDAY($AY$2)=2,1,0)","v":0},{"$f":"IF(WEEKDAY($AY$2)=3,1,0)","v":0},{"$f":"IF(WEEKDAY($AY$2)=4,1,0)","v":0},{"$f":"IF(WEEKDAY($AY$2)=5,1,0)","v":0},{"$f":"IF(WEEKDAY($AY$2)=6,1,0)","v":1},{"$f":"IF(WEEKDAY($AY$2)=7,1,0)","v":0},{"$f":"IF(WEEKDAY($AY$2)=1,1,0)","v":0}]
[null,null,"Apr",null,{"$f":"IF(WEEKDAY($F$2)=2,1,0)","v":0},{"$f":"IF(WEEKDAY($F$2)=3,1,0)","v":0},{"$f":"IF(WEEKDAY($F$2)=4,1,0)","v":0},{"$f":"IF(WEEKDAY($F$2)=5,1,0)","v":0},{"$f":"IF(WEEKDAY($F$2)=6,1,0)","v":0},{"$f":"IF(WEEKDAY($F$2)=7,1,0)","v":0},{"$f":"IF(WEEKDAY($F$2)=1,1,0)","v":1},"May",null,{"$f":"IF(WEEKDAY($P$2)=2,1,0)","v":0},{"$f":"IF(WEEKDAY($P$2)=3,1,0)","v":1},{"$f":"IF(WEEKDAY($P$2)=4,1,0)","v":0},{"$f":"IF(WEEKDAY($P$2)=5,1,0)","v":0},{"$f":"IF(WEEKDAY($P$2)=6,1,0)","v":0},{"$f":"IF(WEEKDAY($P$2)=7,1,0)","v":0},{"$f":"IF(WEEKDAY($P$2)=1,1,0)","v":0},"Jun",null,{"$f":"IF(WEEKDAY($X$2)=2,1,0)","v":0},{"$f":"IF(WEEKDAY($X$2)=3,1,0)","v":0},{"$f":"IF(WEEKDAY($X$2)=4,1,0)","v":0},{"$f":"IF(WEEKDAY($X$2)=5,1,0)","v":0},{"$f":"IF(WEEKDAY($X$2)=6,1,0)","v":1},{"$f":"IF(WEEKDAY($X$2)=7,1,0)","v":0},{"$f":"IF(WEEKDAY($X$2)=1,1,0)","v":0},null,"Apr",null,{"$f":"IF(WEEKDAY($AH$2)=2,1,0)","v":1},{"$f":"IF(WEEKDAY($AH$2)=3,1,0)","v":0},{"$f":"IF(WEEKDAY($AH$2)=4,1,0)","v":0},{"$f":"IF(WEEKDAY($AH$2)=5,1,0)","v":0},{"$f":"IF(WEEKDAY($AH$2)=6,1,0)","v":0},{"$f":"IF(WEEKDAY($AH$2)=7,1,0)","v":0},{"$f":"IF(WEEKDAY($AH$2)=1,1,0)","v":0},"May",null,{"$f":"IF(WEEKDAY($AR$2)=2,1,0)","v":0},{"$f":"IF(WEEKDAY($AR$2)=3,1,0)","v":0},{"$f":"IF(WEEKDAY($AR$2)=4,1,0)","v":1},{"$f":"IF(WEEKDAY($AR$2)=5,1,0)","v":0},{"$f":"IF(WEEKDAY($AR$2)=6,1,0)","v":0},{"$f":"IF(WEEKDAY($AR$2)=7,1,0)","v":0},{"$f":"IF(WEEKDAY($AR$2)=1,1,0)","v":0},"Jun",null,{"$f":"IF(WEEKDAY($AZ$2)=2,1,0)","v":0},{"$f":"IF(WEEKDAY($AZ$2)=3,1,0)","v":0},{"$f":"IF(WEEKDAY($AZ$2)=4,1,0)","v":0},{"$f":"IF(WEEKDAY($AZ$2)=5,1,0)","v":0},{"$f":"IF(WEEKDAY($AZ$2)=6,1,0)","v":0},{"$f":"IF(WEEKDAY($AZ$2)=7,1,0)","v":1},{"$f":"IF(WEEKDAY($AZ$2)=1,1,0)","v":0}]
[null,null,"Jul",null,{"$f":"IF(WEEKDAY($G$2)=2,1,0)","v":0},{"$f":"IF(WEEKDAY($G$2)=3,1,0)","v":0},{"$f":"IF(WEEKDAY($G$2)=4,1,0)","v":0},{"$f":"IF(WEEKDAY($G$2)=5,1,0)","v":0},{"$f":"IF(WEEKDAY($G$2)=6,1,0)","v":0},{"$f":"IF(WEEKDAY($G$2)=7,1,0)","v":0},{"$f":"IF(WEEKDAY($G$2)=1,1,0)","v":1},"Aug",null,{"$f":"IF(WEEKDAY($Q$2)=2,1,0)","v":0},{"$f":"IF(WEEKDAY($Q$2)=3,1,0)","v":0},{"$f":"IF(WEEKDAY($Q$2)=4,1,0)","v":1},{"$f":"IF(WEEKDAY($Q$2)=5,1,0)","v":0},{"$f":"IF(WEEKDAY($Q$2)=6,1,0)","v":0},{"$f":"IF(WEEKDAY($Q$2)=7,1,0)","v":0},{"$f":"IF(WEEKDAY($Q$2)=1,1,0)","v":0},"Sep",null,{"$f":"IF(WEEKDAY($Y$2)=2,1,0)","v":0},{"$f":"IF(WEEKDAY($Y$2)=3,1,0)","v":0},{"$f":"IF(WEEKDAY($Y$2)=4,1,0)","v":0},{"$f":"IF(WEEKDAY($Y$2)=5,1,0)","v":0},{"$f":"IF(WEEKDAY($Y$2)=6,1,0)","v":0},{"$f":"IF(WEEKDAY($Y$2)=7,1,0)","v":1},{"$f":"IF(WEEKDAY($Y$2)=1,1,0)","v":0},null,"Jul",null,{"$f":"IF(WEEKDAY($AI$2)=2,1,0)","v":1},{"$f":"IF(WEEKDAY($AI$2)=3,1,0)","v":0},{"$f":"IF(WEEKDAY($AI$2)=4,1,0)","v":0},{"$f":"IF(WEEKDAY($AI$2)=5,1,0)","v":0},{"$f":"IF(WEEKDAY($AI$2)=6,1,0)","v":0},{"$f":"IF(WEEKDAY($AI$2)=7,1,0)","v":0},{"$f":"IF(WEEKDAY($AI$2)=1,1,0)","v":0},"Aug",null,{"$f":"IF(WEEKDAY($AS$2)=2,1,0)","v":0},{"$f":"IF(WEEKDAY($AS$2)=3,1,0)","v":0},{"$f":"IF(WEEKDAY($AS$2)=4,1,0)","v":0},{"$f":"IF(WEEKDAY($AS$2)=5,1,0)","v":1},{"$f":"IF(WEEKDAY($AS$2)=6,1,0)","v":0},{"$f":"IF(WEEKDAY($AS$2)=7,1,0)","v":0},{"$f":"IF(WEEKDAY($AS$2)=1,1,0)","v":0},"Sep",null,{"$f":"IF(WEEKDAY($BA$2)=2,1,0)","v":0},{"$f":"IF(WEEKDAY($BA$2)=3,1,0)","v":0},{"$f":"IF(WEEKDAY($BA$2)=4,1,0)","v":0},{"$f":"IF(WEEKDAY($BA$2)=5,1,0)","v":0},{"$f":"IF(WEEKDAY($BA$2)=6,1,0)","v":0},{"$f":"IF(WEEKDAY($BA$2)=7,1,0)","v":0},{"$f":"IF(WEEKDAY($BA$2)=1,1,0)","v":1}]
[null,null,"Oct",null,{"$f":"IF(WEEKDAY($H$2)=2,1,0)","v":1},{"$f":"IF(WEEKDAY($H$2)=3,1,0)","v":0},{"$f":"IF(WEEKDAY($H$2)=4,1,0)","v":0},{"$f":"IF(WEEKDAY($H$2)=5,1,0)","v":0},{"$f":"IF(WEEKDAY($H$2)=6,1,0)","v":0},{"$f":"IF(WEEKDAY($H$2)=7,1,0)","v":0},{"$f":"IF(WEEKDAY($H$2)=1,1,0)","v":0},"Nov",null,{"$f":"IF(WEEKDAY($R$2)=2,1,0)","v":0},{"$f":"IF(WEEKDAY($R$2)=3,1,0)","v":0},{"$f":"IF(WEEKDAY($R$2)=4,1,0)","v":0},{"$f":"IF(WEEKDAY($R$2)=5,1,0)","v":1},{"$f":"IF(WEEKDAY($R$2)=6,1,0)","v":0},{"$f":"IF(WEEKDAY($R$2)=7,1,0)","v":0},{"$f":"IF(WEEKDAY($R$2)=1,1,0)","v":0},"Dec",null,{"$f":"IF(WEEKDAY($Z$2)=2,1,0)","v":0},{"$f":"IF(WEEKDAY($Z$2)=3,1,0)","v":0},{"$f":"IF(WEEKDAY($Z$2)=4,1,0)","v":0},{"$f":"IF(WEEKDAY($Z$2)=5,1,0)","v":0},{"$f":"IF(WEEKDAY($Z$2)=6,1,0)","v":0},{"$f":"IF(WEEKDAY($Z$2)=7,1,0)","v":1},{"$f":"IF(WEEKDAY($Z$2)=1,1,0)","v":0},null,"Oct",null,{"$f":"IF(WEEKDAY($AJ$2)=2,1,0)","v":0},{"$f":"IF(WEEKDAY($AJ$2)=3,1,0)","v":1},{"$f":"IF(WEEKDAY($AJ$2)=4,1,0)","v":0},{"$f":"IF(WEEKDAY($AJ$2)=5,1,0)","v":0},{"$f":"IF(WEEKDAY($AJ$2)=6,1,0)","v":0},{"$f":"IF(WEEKDAY($AJ$2)=7,1,0)","v":0},{"$f":"IF(WEEKDAY($AJ$2)=1,1,0)","v":0},"Nov",null,{"$f":"IF(WEEKDAY($AT$2)=2,1,0)","v":0},{"$f":"IF(WEEKDAY($AT$2)=3,1,0)","v":0},{"$f":"IF(WEEKDAY($AT$2)=4,1,0)","v":0},{"$f":"IF(WEEKDAY($AT$2)=5,1,0)","v":0},{"$f":"IF(WEEKDAY($AT$2)=6,1,0)","v":1},{"$f":"IF(WEEKDAY($AT$2)=7,1,0)","v":0},{"$f":"IF(WEEKDAY($AT$2)=1,1,0)","v":0},"Dec",null,{"$f":"IF(WEEKDAY($BB$2)=2,1,0)","v":0},{"$f":"IF(WEEKDAY($BB$2)=3,1,0)","v":0},{"$f":"IF(WEEKDAY($BB$2)=4,1,0)","v":0},{"$f":"IF(WEEKDAY($BB$2)=5,1,0)","v":0},{"$f":"IF(WEEKDAY($BB$2)=6,1,0)","v":0},{"$f":"IF(WEEKDAY($BB$2)=7,1,0)","v":0},{"$f":"IF(WEEKDAY($BB$2)=1,1,0)","v":1}]
[null,null,null,null,"s","t","q","q","s","s","d",null,null,"s","t","q","q","s","s","d",null,null,"s","t","q","q","s","s","d",null,null,null,"s","t","q","q","s","s","d",null,null,"s","t","q","q","s","s","d",null,null,"s","t","q","q","s","s","d"]
[null,null,"Feriados",null,{"$f":"MOD(N17,19)","v":17},{"$f":"MOD(N17,4)","v":0},{"$f":"MOD(N17,7)","v":3},{"$f":"MOD((19*E8+24),30)","v":17},{"$f":"MOD((6*H8+4*G8+2*F8+5),7)","v":0},{"$f":"DATE(N17,3,22)","v":"2012-03-22"},{"$f":"J8+I8+H8","v":"2012-04-08"},{"$f":"DAY(K8)","v":8},null,null,null,null,null,null,null,null,null,null,null,null,null,null,null,null,null,null,"Feriados",null,{"$f":"MOD(O17,19)","v":18},{"$f":"MOD(O17,4)","v":1},{"$f":"MOD(O17,7)","v":4},{"$f":"MOD((19*AG8+24),30)","v":6},{"$f":"MOD((6*AJ8+4*AI8+2*AH8+5),7)","v":3},{"$f":"DATE(O17,3,22)","v":"2013-03-22"},{"$f":"AL8+AK8+AJ8","v":"2013-03-31"},{"$f":"DAY(AM8)","v":31}]
[null,2012,"Páscoa",null,null,{"$f":"IF(L8=26,DATE(N17,4,19),IF(AND(AN8=25,E8>10),DATE(N17,4,18),K8))","v":"2012-04-08"},null,null,null,null,null,null,null,null,null,null,null,null,null,null,null,null,null,null,null,null,null,null,null,2013,"Páscoa",null,null,{"$f":"IF(AN8=26,DATE(O17,4,19),IF(AND(AN8=25,AG8>10),DATE(O17,4,18),AM8))","v":"2013-03-31"},null,null,"pas1"]
[null,null,"Carnaval",null,null,{"$f":"F9-47","v":"2012-02-21"},null,null,null,null,null,null,null,null,null,null,null,null,null,null,null,null,null,null,null,null,null,null,null,null,"Carnaval",null,null,{"$f":"AH9-47","v":"2013-02-12"},null,null,"car1"]
[null,null,"Quarta Cinzas",null,null,{"$f":"F9-46","v":"2012-02-22"},null,null,null,null,null,null,null,null,null,null,null,null,null,null,null,null,null,null,null,null,null,null,null,null,"Quarta Cinzas",null,null,{"$f":"AH9-46","v":"2013-02-13"},null,null,"qc1"]
[null,null,"Sexta Santa",null,null,{"$f":"F9-2","v":"2012-04-06"},null,null,null,null,null,null,null,null,null,null,null,null,null,null,null,null,null,null,null,null,null,null,null,null,"Sexta Santa",null,null,{"$f":"AH9-2","v":"2013-03-29"},null,null,"ss1"]
[null,null,"Corpo Deus",null,null,{"$f":"F9+60","v":"2012-06-07"},null,null,null,null,null,null,null,null,null,null,null,null,null,null,null,null,null,null,null,null,null,null,null,null,"Corpo Deus",null,null,{"$f":"AH9+60","v":"2013-05-30"},null,null,"cd1"]
[]
[null,null,null,"pré-esc., 1º, 2º, 3º, 4º, 5º, 7º, 8º e 10º anos",null,null,null,null,"datas para: 6º, 9º 11º e 12º anos",null,null,null,null,null,null,null,null,null,null,null,null,null,null,null,null,null,null,null,null,null,null,null,null,null,null,null,null,null,null,null,null,{"$f":"CONCATENATE(N16,\" \",N17,\" - \",O17)","v":"ANO LETIVO 2012 - 2013"}]
[null,null,null,"sem exames","1º P","2º P","3º P",null,"com exames","1º P","2º P","3º P",null,"ANO LETIVO"]
[null,null,null,{"$f":"TURMAS!D17","v":"início"},{"$f":"TURMAS!E17","v":"2012-09-13"},{"$f":"TURMAS!F17","v":"2013-01-03"},{"$f":"TURMAS!G17","v":"2013-04-02"},{"$f":"TURMAS!H17","v":0},{"$f":"TURMAS!I17","v":"início"},{"$f":"TURMAS!J17","v":"2012-09-13"},{"$f":"TURMAS!K17","v":"2013-01-03"},{"$f":"TURMAS!L17","v":"2013-04-02"},null,{"$f":"YEAR($E$17)","v":2012},{"$f":"$N$17+1","v":2013}]
[null,null,null,{"$f":"TURMAS!D18","v":"fim"},{"$f":"TURMAS!E18","v":"2012-12-14"},{"$f":"TURMAS!F18","v":"2013-03-15"},{"$f":"TURMAS!G18","v":"2013-06-14"},{"$f":"TURMAS!H18","v":"2013-07-05"},{"$f":"TURMAS!I18","v":"fim"},{"$f":"TURMAS!J18","v":"2012-12-14"},{"$f":"TURMAS!K18","v":"2013-03-15"},{"$f":"TURMAS!L18","v":"2013-06-07"},null,null,null,null,null,null,null,null,null,null,null,null,null,null,null,null,null,null,null,null,null,null,"CONTAGEM DE FERIADOS PARA PREVISTAS",null,null,null,null,null,null,false,null,false,null,false,null,false,null,true,null,true,null,true,null,false,null,false,null,true,null,true,null,true,null,true,null,false]
["Aulas Previstas",null,null,null,null,"a área do calendário pode ser selecionada e copiada para outro documento. Não existe indicação dos feriados municipais.",null,null,null,null,null,null,null,null,null,null,null,null,null,null,null,null,null,null,null,null,null,null,null,null,null,null,null,null,"dias semana",null,null,null,"soma feriados",null,null,{"$f":"AE21","v":"Ano Novo *"},null,{"$f":"AE22","v":"Carnaval *"},null,{"$f":"AE23","v":"Sexta-F. Santa *"},null,{"$f":"AE24","v":"Páscoa *"},null,{"$f":"AE25","v":"Dia Liberdade"},null,{"$f":"AE26","v":"Dia Trabalhador"},null,{"$f":"AE27","v":"Dia Portugal"},null,{"$f":"AE28","v":"Corpo de Deus"},null,{"$f":"AE29","v":"Assunção Nª Srª. *"},null,{"$f":"AE30","v":"Implant. República"},null,{"$f":"AE31","v":"Todos os Santos"},null,{"$f":"AE32","v":"Restaur. Indepen."},null,{"$f":"AE33","v":"Nª Srª. Da Conceição"},null,{"$f":"AE34","v":"Natal *"}]
["sem exame","com exame",null,null,null,null,null,null,null,null,null,{"$f":"AP15","v":"ANO LETIVO 2012 - 2013"},null,null,null,null,null,"  Definição de feriados nacionais em vigor",null,null,null,null,null,null,null,null,null,null,null,null,null,null,null,null,null,"s/ex","c/ex",null,"s/ex","c/ex",null,{"$f":"IF($AP$18=TRUE,$AD$21,0)","v":"00:00:00"},{"$f":"AD21","v":"2013-01-01"},{"$f":"IF(AR18=TRUE,AD22,0)","v":"00:00:00"},{"$f":"AD22","v":"2013-02-12"},{"$f":"IF(AT18=TRUE,AD23,0)","v":"00:00:00"},{"$f":"AD23","v":"2013-03-29"},{"$f":"IF(AV18=TRUE,AD24,0)","v":"00:00:00"},{"$f":"AD24","v":"2013-03-31"},{"$f":"IF(AX18=TRUE,AD25,0)","v":"2013-04-25"},{"$f":"AD25","v":"2013-04-25"},{"$f":"IF(AZ18=TRUE,AD26,0)","v":"2013-05-01"},{"$f":"AD26","v":"2013-05-01"},{"$f":"IF(BB18=TRUE,AD27,0)","v":"2013-06-10"},{"$f":"AD27","v":"2013-06-10"},{"$f":"IF(BD18=TRUE,AD28,0)","v":"00:00:00"},{"$f":"AD28","v":"2013-05-30"},{"$f":"IF(BF18=TRUE,AD29,0)","v":"00:00:00"},{"$f":"AD29","v":"2013-08-15"},{"$f":"IF(BH18=TRUE,AD30,0)","v":"2012-10-05"},{"$f":"AD30","v":"2012-10-05"},{"$f":"IF(BJ18=TRUE,AD31,0)","v":"2012-11-01"},{"$f":"AD31","v":"2012-11-01"},{"$f":"IF(BL18=TRUE,AD32,0)","v":"2012-12-01"},{"$f":"AD32","v":"2012-12-01"},{"$f":"IF(BN18=TRUE,AD33,0)","v":"2012-12-08"},{"$f":"AD33","v":"2012-12-08"},{"$f":"IF(BP18=TRUE,AD34,0)","v":"00:00:00"},{"$f":"AD34","v":"2012-12-25"}]
["1º P",null,null,"SET","OUT","NOV","DEZ","JAN","FEV","MAR","ABR","MAI","JUN","JUL","AGO",null,null,null,null,null,null,null,null,null,null,null,null,null,null,{"$f":"DATE($O$17,1,1)","v":"2013-01-01"},"Ano Novo *",null,"1º P.",null,null,null,null,"1º P",null,null,null,"s/ex","c/ex","s/ex","c/ex","s/ex","c/ex","s/ex","c/ex","s/ex","c/ex","s/ex","c/ex","s/ex","c/ex","s/ex","c/ex","s/ex","c/ex","s/ex","c/ex","s/ex","c/ex","s/ex","c/ex","s/ex","c/ex","s/ex","c/ex"]
[{"$f":"AJ22-AM22-AG22","v":13},{"$f":"AK22-AN22-AG22","v":13},2,{"$f":"IF($W$5=1,1,0)","v":0},{"$f":"IF($E$6=1,1,0)","v":1},{"$f":"IF($N$6=1,1,0)","v":0},{"$f":"IF($W$6=1,1,0)","v":0},{"$f":"IF($AG$3=1,1,0)","v":0},{"$f":"IF($AP$3=1,1,0)","v":0},{"$f":"IF($AY$3=1,1,0)","v":0},{"$f":"IF($AG$4=1,1,0)","v":1},{"$f":"IF($AP$4=1,1,0)","v":0},{"$f":"IF($AY$4=1,1,0)","v":0},{"$f":"IF($AG$5=1,1,0)","v":1},{"$f":"IF($AP$5=1,1,0)","v":0},null,null,null,null,null,null,null,null,null,null,null,null,null,null,{"$f":"car_1","v":"2013-02-12"},"Carnaval *",null,{"$f":"FERIADOS!$R$42","v":0},null,2,{"$f":"SUM(IF(WEEKDAY($E$17-1+ROW(INDIRECT(\"1:\"&TRUNC($E$18-$E$17)+1)))=$AI22,1,0))","v":13},{"$f":"SUM(IF(WEEKDAY($J$17-1+ROW(INDIRECT(\"1:\"&TRUNC($J$18-$J$17)+1)))=$AI22,1,0))","v":13},null,{"$f":"SUM(BH22,BJ22,BL22,BN22)","v":0},{"$f":"SUM(BI22,BK22,BM22,BO22)","v":0},null,{"$f":"IF(WEEKDAY($AP$20)=$AI22,1,0)","v":0},{"$f":"IF(WEEKDAY($AP$20)=$AI22,1,0)","v":0},null,null,null,null,null,null,null,null,null,null,null,null,null,null,null,null,{"$f":"IF(WEEKDAY($BH$20)=$AI22,1,0)","v":0},{"$f":"IF(WEEKDAY($BH$20)=$AI22,1,0)","v":0},{"$f":"IF(WEEKDAY($BJ$20)=$AI22,1,0)","v":0},{"$f":"IF(WEEKDAY($BJ$20)=$AI22,1,0)","v":0},{"$f":"IF(WEEKDAY($BL$20)=$AI22,1,0)","v":0},{"$f":"IF(WEEKDAY($BL$20)=$AI22,1,0)","v":0},{"$f":"IF(WEEKDAY($BN$20)=$AI22,1,0)","v":0},{"$f":"IF(WEEKDAY($BN$20)=$AI22,1,0)","v":0},{"$f":"IF(WEEKDAY($BP$20)=$AI22,1,0)","v":0},{"$f":"IF(WEEKDAY($BP$20)=$AI22,1,0)","v":0}]
[{"$f":"AJ23-AM23-AG23","v":13},{"$f":"AK23-AN23-AG23","v":13},3,{"$f":"IF($X$5=1,1, IF(D22>0,D22+1, 0))","v":0},{"$f":"IF($F$6=1,1, IF(E22>0,E22+1, 0))","v":2},{"$f":"IF($O$6=1,1, IF(F22>0,F22+1, 0))","v":0},{"$f":"IF($X$6=1,1, IF(G22>0,G22+1, 0))","v":0},{"$f":"IF($AH$3=1,1, IF(H22>0,H22+1, 0))","v":1},{"$f":"IF($AQ$3=1,1, IF(I22>0,I22+1, 0))","v":0},{"$f":"IF($AZ$3=1,1, IF(J22>0,J22+1, 0))","v":0},{"$f":"IF($AH$4=1,1, IF(K22>0,K22+1, 0))","v":2},{"$f":"IF($AQ$4=1,1, IF(L22>0,L22+1, 0))","v":0},{"$f":"IF($AZ$4=1,1, IF(M22>0,M22+1, 0))","v":0},{"$f":"IF($AH$5=1,1, IF(N22>0,N22+1, 0))","v":2},{"$f":"IF($AQ$5=1,1, IF(O22>0,O22+1, 0))","v":0},null,null,null,null,null,null,null,null,null,null,null,null,null,null,{"$f":"ss_1","v":"2013-03-29"},"Sexta-F. Santa *",null,{"$f":"FERIADOS!$R$43","v":0},null,3,{"$f":"SUM(IF(WEEKDAY($E$17-1+ROW(INDIRECT(\"1:\"&TRUNC($E$18-$E$17)+1)))=$AI23,1,0))","v":13},{"$f":"SUM(IF(WEEKDAY($J$17-1+ROW(INDIRECT(\"1:\"&TRUNC($J$18-$J$17)+1)))=$AI23,1,0))","v":13},null,{"$f":"SUM(BH23,BJ23,BL23,BN23)","v":0},{"$f":"SUM(BI23,BK23,BM23,BO23)","v":0},null,{"$f":"IF(WEEKDAY($AP$20)=$AI23,1,0)","v":0},0,null,null,null,null,null,null,null,null,null,null,null,null,null,null,null,null,{"$f":"IF(WEEKDAY($BH$20)=$AI23,1,0)","v":0},0,{"$f":"IF(WEEKDAY($BJ$20)=$AI23,1,0)","v":0},0,{"$f":"IF(WEEKDAY($BL$20)=$AI23,1,0)","v":0},0,{"$f":"IF(WEEKDAY($BN$20)=$AI23,1,0)","v":0},0,{"$f":"IF(WEEKDAY($BP$20)=$AI23,1,0)","v":0},0]
[13,13,4,{"$f":"IF($Y$5=1,1, IF(D23>0,D23+1, 0))","v":0},{"$f":"IF($G$6=1,1, IF(E23>0,E23+1, 0))","v":3},{"$f":"IF($P$6=1,1, IF(F23>0,F23+1, 0))","v":0},{"$f":"IF($Y$6=1,1, IF(G23>0,G23+1, 0))","v":0},{"$f":"IF($AI$3=1,1, IF(H23>0,H23+1, 0))","v":2},{"$f":"IF($AR$3=1,1, IF(I23>0,I23+1, 0))","v":0},{"$f":"IF($BA$3=1,1, IF(J23>0,J23+1, 0))","v":0},{"$f":"IF($AI$4=1,1, IF(K23>0,K23+1, 0))","v":3},{"$f":"IF($AR$4=1,1, IF(L23>0,L23+1, 0))","v":1},{"$f":"IF($BA$4=1,1, IF(M23>0,M23+1, 0))","v":0},{"$f":"IF($AI$5=1,1, IF(N23>0,N23+1, 0))","v":3},{"$f":"IF($AR$5=1,1, IF(O23>0,O23+1, 0))","v":0},null,null,null,null,null,null,null,null,null,null,null,null,null,null,{"$f":"pas_1","v":"2013-03-31"},"Páscoa *",null,{"$f":"FERIADOS!$R$44","v":0},null,4,{"$f":"SUM(IF(WEEKDAY($E$17-1+ROW(INDIRECT(\"1:\"&TRUNC($E$18-$E$17)+1)))=$AI24,1,0))","v":13},{"$f":"SUM(IF(WEEKDAY($J$17-1+ROW(INDIRECT(\"1:\"&TRUNC($J$18-$J$17)+1)))=$AI24,1,0))","v":13},null,0,0,null,0,0,null,null,null,null,null,null,null,null,null,null,null,null,null,null,null,null,0,0,0,0,0,0,0,0,0,0]
[13,13,5,{"$f":"IF($Z$5=1,1, IF(D24>0,D24+1, 0))","v":0},{"$f":"IF($H$6=1,1, IF(E24>0,E24+1, 0))","v":4},{"$f":"IF($Q$6=1,1, IF(F24>0,F24+1, 0))","v":1},{"$f":"IF($Z$6=1,1, IF(G24>0,G24+1, 0))","v":0},{"$f":"IF($AJ$3=1,1, IF(H24>0,H24+1, 0))","v":3},{"$f":"IF($AS$3=1,1, IF(I24>0,I24+1, 0))","v":0},{"$f":"IF($BB$3=1,1, IF(J24>0,J24+1, 0))","v":0},{"$f":"IF($AJ$4=1,1, IF(K24>0,K24+1, 0))","v":4},{"$f":"IF($AS$4=1,1, IF(L24>0,L24+1, 0))","v":2},{"$f":"IF($BB$4=1,1, IF(M24>0,M24+1, 0))","v":0},{"$f":"IF($AJ$5=1,1, IF(N24>0,N24+1, 0))","v":4},{"$f":"IF($AS$5=1,1, IF(O24>0,O24+1, 0))","v":1},null,null,null,null,null,null,null,null,null,null,null,null,null,null,{"$f":"DATE($O$17,4,25)","v":"2013-04-25"},"Dia Liberdade",{"$f":"IF($AX$18=FALSE,\"suspenso\",\"\")","v":""},{"$f":"FERIADOS!$R$45","v":0},null,5,{"$f":"SUM(IF(WEEKDAY($E$17-1+ROW(INDIRECT(\"1:\"&TRUNC($E$18-$E$17)+1)))=$AI25,1,0))","v":14},{"$f":"SUM(IF(WEEKDAY($J$17-1+ROW(INDIRECT(\"1:\"&TRUNC($J$18-$J$17)+1)))=$AI25,1,0))","v":14},null,1,1,null,0,0,null,null,null,null,null,null,null,null,null,null,null,null,null,null,null,null,0,0,1,1,0,0,0,0,0,0]
[13,13,6,{"$f":"IF($AA$5=1,1, IF(D25>0,D25+1, 0))","v":0},{"$f":"IF($I$6=1,1, IF(E25>0,E25+1, 0))","v":5},{"$f":"IF($R$6=1,1, IF(F25>0,F25+1, 0))","v":2},{"$f":"IF($AA$6=1,1, IF(G25>0,G25+1, 0))","v":0},{"$f":"IF($AK$3=1,1, IF(H25>0,H25+1, 0))","v":4},{"$f":"IF($AT$3=1,1, IF(I25>0,I25+1, 0))","v":1},{"$f":"IF($BC$3=1,1, IF(J25>0,J25+1, 0))","v":1},{"$f":"IF($AK$4=1,1, IF(K25>0,K25+1, 0))","v":5},{"$f":"IF($AT$4=1,1, IF(L25>0,L25+1, 0))","v":3},{"$f":"IF($BC$4=1,1, IF(M25>0,M25+1, 0))","v":0},{"$f":"IF($AK$5=1,1, IF(N25>0,N25+1, 0))","v":5},{"$f":"IF($AT$5=1,1, IF(O25>0,O25+1, 0))","v":2},null,null,null,null,null,null,null,null,null,null,null,null,null,null,{"$f":"DATE($O$17,5,1)","v":"2013-05-01"},"Dia Trabalhador",{"$f":"IF($AZ$18=FALSE,\"suspenso\",\"\")","v":""},{"$f":"FERIADOS!$R$46","v":0},null,6,{"$f":"SUM(IF(WEEKDAY($E$17-1+ROW(INDIRECT(\"1:\"&TRUNC($E$18-$E$17)+1)))=$AI26,1,0))","v":14},{"$f":"SUM(IF(WEEKDAY($J$17-1+ROW(INDIRECT(\"1:\"&TRUNC($J$18-$J$17)+1)))=$AI26,1,0))","v":14},null,1,1,null,0,0,null,null,null,null,null,null,null,null,null,null,null,null,null,null,null,null,1,1,0,0,0,0,0,0,0,0]
[null,null,"SA",{"$f":"IF($AB$5=1,1, IF(D26>0,D26+1, 0))","v":1},{"$f":"IF($J$6=1,1, IF(E26>0,E26+1, 0))","v":6},{"$f":"IF($S$6=1,1, IF(F26>0,F26+1, 0))","v":3},{"$f":"IF($AB$6=1,1, IF(G26>0,G26+1, 0))","v":1},{"$f":"IF($AL$3=1,1, IF(H26>0,H26+1, 0))","v":5},{"$f":"IF($AU$3=1,1, IF(I26>0,I26+1, 0))","v":2},{"$f":"IF($BD$3=1,1, IF(J26>0,J26+1, 0))","v":2},{"$f":"IF($AL$4=1,1, IF(K26>0,K26+1, 0))","v":6},{"$f":"IF($AU$4=1,1, IF(L26>0,L26+1, 0))","v":4},{"$f":"IF($BD$4=1,1, IF(M26>0,M26+1, 0))","v":1},{"$f":"IF($AL$5=1,1, IF(N26>0,N26+1, 0))","v":6},{"$f":"IF($AU$5=1,1, IF(O26>0,O26+1, 0))","v":3},null,null,"  Definição de feriados municipais",null,null,null,null,null,null,null,null,null,null,null,{"$f":"DATE($O$17,6,10)","v":"2013-06-10"},"Dia Portugal",{"$f":"IF($BB$18=FALSE,\"suspenso\",\"\")","v":""}]
["2º P",null,"DO",{"$f":"IF($AC$5=1,1, IF(D27>0,D27+1, 0))","v":2},{"$f":"IF($K$6=1,1, IF(E27>0,E27+1, 0))","v":7},{"$f":"IF($T$6=1,1, IF(F27>0,F27+1, 0))","v":4},{"$f":"IF($AC$6=1,1, IF(G27>0,G27+1, 0))","v":2},{"$f":"IF($AM$3=1,1, IF(H27>0,H27+1, 0))","v":6},{"$f":"IF($AV$3=1,1, IF(I27>0,I27+1, 0))","v":3},{"$f":"IF($BE$3=1,1, IF(J27>0,J27+1, 0))","v":3},{"$f":"IF($AM$4=1,1, IF(K27>0,K27+1, 0))","v":7},{"$f":"IF($AV$4=1,1, IF(L27>0,L27+1, 0))","v":5},{"$f":"IF($BE$4=1,1, IF(M27>0,M27+1, 0))","v":2},{"$f":"IF($AM$5=1,1, IF(N27>0,N27+1, 0))","v":7},{"$f":"IF($AV$5=1,1, IF(O27>0,O27+1, 0))","v":4},null,null,null,null,null,null,null,null,null,null,null,null,null,null,{"$f":"cd_1","v":"2013-05-30"},"Corpo de Deus",{"$f":"IF($BD$18=FALSE,\"suspenso\",\"\")","v":"suspenso"},"2º P.",null,null,null,null,"2º P"]
[{"$f":"AJ29-AM29-AG29","v":9},{"$f":"AK29-AN29-AG29","v":9},2,{"$f":"IF(AND(D28>0,D28<30),D28+1,0)","v":3},{"$f":"IF(AND(E28>0,E28<31),E28+1,0)","v":8},{"$f":"IF(AND(F28>0,F28<30),F28+1,0)","v":5},{"$f":"IF(AND(G28>0,G28<31),G28+1,0)","v":3},{"$f":"IF(AND(H28>0,H28<31),H28+1,0)","v":7},{"$f":"IF(AND(I28>0,I28<$AP$2),I28+1,0)","v":4},{"$f":"IF(AND(J28>0,J28<31),J28+1,0)","v":4},{"$f":"IF(AND(K28>0,K28<30),K28+1,0)","v":8},{"$f":"IF(AND(L28>0,L28<31),L28+1,0)","v":6},{"$f":"IF(AND(M28>0,M28<30),M28+1,0)","v":3},{"$f":"IF(AND(N28>0,N28<31),N28+1,0)","v":8},{"$f":"IF(AND(O28>0,O28<31),O28+1,0)","v":5},null,null,null,null,null,null,null,null,null,null,null,null,null,null,{"$f":"DATE($O$17,8,15)","v":"2013-08-15"},"Assunção Nª Srª. *",null,{"$f":"FERIADOS!$T$42","v":0},null,2,{"$f":"SUM(IF(WEEKDAY($F$17-1+ROW(INDIRECT(\"1:\"&TRUNC($F$18-$F$17)+1)))=$AI29,1,0))-1","v":9},{"$f":"SUM(IF(WEEKDAY($K$17-1+ROW(INDIRECT(\"1:\"&TRUNC($K$18-$K$17)+1)))=$AI29,1,0))-1","v":9},null,null,null,null,null,null,{"$f":"IF(WEEKDAY($AR$20)=$AI29,1,0)","v":0},{"$f":"IF(WEEKDAY($AR$20)=$AI29,1,0)","v":0},{"$f":"IF(WEEKDAY($AT$20)=$AI29,1,0)","v":0},{"$f":"IF(WEEKDAY($AT$20)=$AI29,1,0)","v":0},{"$f":"IF(WEEKDAY($AV$20)=$AI29,1,0)","v":0},{"$f":"IF(WEEKDAY($AV$20)=$AI29,1,0)","v":0}]
[{"$f":"AJ30-AM30-AG30","v":9},{"$f":"AK30-AN30-AG30","v":9},3,{"$f":"IF(AND(D29>0,D29<30),D29+1,0)","v":4},{"$f":"IF(AND(E29>0,E29<31),E29+1,0)","v":9},{"$f":"IF(AND(F29>0,F29<30),F29+1,0)","v":6},{"$f":"IF(AND(G29>0,G29<31),G29+1,0)","v":4},{"$f":"IF(AND(H29>0,H29<31),H29+1,0)","v":8},{"$f":"IF(AND(I29>0,I29<$AP$2),I29+1,0)","v":5},{"$f":"IF(AND(J29>0,J29<31),J29+1,0)","v":5},{"$f":"IF(AND(K29>0,K29<30),K29+1,0)","v":9},{"$f":"IF(AND(L29>0,L29<31),L29+1,0)","v":7},{"$f":"IF(AND(M29>0,M29<30),M29+1,0)","v":4},{"$f":"IF(AND(N29>0,N29<31),N29+1,0)","v":9},{"$f":"IF(AND(O29>0,O29<31),O29+1,0)","v":6},null,null,null,null,null,null,null,null,null,null,null,null,null,null,{"$f":"DATE($N$17,10,5)","v":"2012-10-05"},"Implant. República",{"$f":"IF($BH$18=FALSE,\"suspenso\",\"\")","v":""},{"$f":"FERIADOS!$T$43","v":0},null,3,{"$f":"SUM(IF(WEEKDAY($F$17-1+ROW(INDIRECT(\"1:\"&TRUNC($F$18-$F$17)+1)))=$AI30,1,0))-1","v":9},{"$f":"SUM(IF(WEEKDAY($K$17-1+ROW(INDIRECT(\"1:\"&TRUNC($K$18-$K$17)+1)))=$AI30,1,0))-1","v":9},null,null,null,null,null,null,{"$f":"IF(WEEKDAY($AR$20)=$AI30,1,0)","v":0},0,{"$f":"IF(WEEKDAY($AT$20)=$AI30,1,0)","v":0},0,{"$f":"IF(WEEKDAY($AV$20)=$AI30,1,0)","v":0},0]
[9,9,4,5,10,7,5,9,6,6,10,8,5,10,7,null,null,null,null,null,null,null,null,null,null,null,null,null,null,{"$f":"DATE($N$17,11,1)","v":"2012-11-01"},"Todos os Santos",{"$f":"IF($BJ$18=FALSE,\"suspenso\",\"\")","v":""},{"$f":"FERIADOS!$T$44","v":0},null,4,{"$f":"SUM(IF(WEEKDAY($F$17-1+ROW(INDIRECT(\"1:\"&TRUNC($F$18-$F$17)+1)))=$AI31,1,0))-1","v":9},{"$f":"SUM(IF(WEEKDAY($K$17-1+ROW(INDIRECT(\"1:\"&TRUNC($K$18-$K$17)+1)))=$AI31,1,0))-1","v":9},null,null,null,null,null,null,0,0,0,0,0,0]
[11,11,5,6,11,8,6,10,7,7,11,9,6,11,8,null,null,null,null,null,null,null,null,null,null,null,null,null,null,{"$f":"DATE($N$17,12,1)","v":"2012-12-01"},"Restaur. Indepen.",{"$f":"IF($BL$18=FALSE,\"suspenso\",\"\")","v":""},{"$f":"FERIADOS!$T$45","v":0},null,5,{"$f":"SUM(IF(WEEKDAY($F$17-1+ROW(INDIRECT(\"1:\"&TRUNC($F$18-$F$17)+1)))=$AI32,1,0))","v":11},{"$f":"SUM(IF(WEEKDAY($K$17-1+ROW(INDIRECT(\"1:\"&TRUNC($K$18-$K$17)+1)))=$AI32,1,0))","v":11},null,null,null,null,null,null,0,0,0,0,0,0]
[11,11,6,7,12,9,7,11,8,8,12,10,7,12,9,null,null,null,null,null,null,null,null,null,null,null,null,null,null,{"$f":"DATE($N$17,12,8)","v":"2012-12-08"},"Nª Srª. Da Conceição",{"$f":"IF($BN$18=FALSE,\"suspenso\",\"\")","v":""},{"$f":"FERIADOS!$T$46","v":0},null,6,{"$f":"SUM(IF(WEEKDAY($F$17-1+ROW(INDIRECT(\"1:\"&TRUNC($F$18-$F$17)+1)))=$AI33,1,0))","v":11},{"$f":"SUM(IF(WEEKDAY($K$17-1+ROW(INDIRECT(\"1:\"&TRUNC($K$18-$K$17)+1)))=$AI33,1,0))","v":11},null,null,null,null,null,null,0,0,0,0,0,0]
[null,null,"SA",8,13,10,8,12,9,9,13,11,8,13,10,null,null,null,null,null,null,null,null,null,null,null,null,null,null,{"$f":"DATE($N$17,12,25)","v":"2012-12-25"},"Natal *",null,null,null,null,{"$f":"SUM(IF(WEEKDAY($U$8-1+ROW(INDIRECT(\"1:\"&TRUNC($U$9-$U$8)+1)))=$C34,1,0))","v":0},{"$f":"SUM(IF(WEEKDAY($U$8-1+ROW(INDIRECT(\"1:\"&TRUNC($U$9-$U$8)+1)))=$C34,1,0))","v":0}]
["3º P",null,"DO",9,14,11,9,13,10,10,14,12,9,14,11,null,null,null,null,null,null,null,null,null,null,null,null,null,"* feriados fora dos períodos letivos",null,null,null,"3º P.",null,null,null,null,"3º P"]
[{"$f":"AJ36-AM36-AG36","v":9},{"$f":"AK36-AN36-AH36","v":9},2,10,15,12,10,14,11,11,15,13,10,15,12,null,null,null,null,null,null,null,null,null,null,null,null,null,null,null,null,null,{"$f":"FERIADOS!$V$42","v":0},{"$f":"FERIADOS!$X$42","v":0},2,{"$f":"SUM(IF(WEEKDAY($G$17-1+ROW(INDIRECT(\"1:\"&TRUNC($G$18-$G$17)+1)))=$AI36,1,0))","v":10},{"$f":"SUM(IF(WEEKDAY($L$17-1+ROW(INDIRECT(\"1:\"&TRUNC($L$18-$L$17)+1)))=$AI36,1,0))","v":9},null,{"$f":"SUM(AX36,AZ36,BB36,BD36)","v":1},{"$f":"SUM(AY36,BA36,BC36,BE36)","v":0},null,null,null,null,null,null,null,null,null,{"$f":"IF(WEEKDAY($AX$20)=$AI36,1,0)","v":0},{"$f":"IF(WEEKDAY($AX$20)=$AI36,1,0)","v":0},{"$f":"IF(WEEKDAY($AZ$20)=$AI36,1,0)","v":0},{"$f":"IF(WEEKDAY($AZ$20)=$AI36,1,0)","v":0},{"$f":"IF(WEEKDAY($BB$20)=$AI36,1,0)","v":1},null,{"$f":"IF(WEEKDAY($BD$20)=$AI36,1,0)","v":0},{"$f":"IF(WEEKDAY($BD$20)=$AI36,1,0)","v":0},{"$f":"IF(WEEKDAY($BF$20)=$AI36,1,0)","v":0},{"$f":"IF(WEEKDAY($BF$20)=$AI36,1,0)","v":0}]
[{"$f":"AJ37-AM37-AG37","v":11},10,3,11,16,13,11,15,12,12,16,14,11,16,13,null,null,"Distribuição dos feriados municipais por período e dia de semana úteis",null,null,null,null,null,null,null,null,null,null,null,null,null,null,{"$f":"FERIADOS!$V$43","v":0},{"$f":"FERIADOS!$X$43","v":0},3,{"$f":"SUM(IF(WEEKDAY($G$17-1+ROW(INDIRECT(\"1:\"&TRUNC($G$18-$G$17)+1)))=$AI37,1,0))","v":11},{"$f":"SUM(IF(WEEKDAY($L$17-1+ROW(INDIRECT(\"1:\"&TRUNC($L$18-$L$17)+1)))=$AI37,1,0))","v":10},null,{"$f":"SUM(AX37,AZ37,BB37,BD37)","v":0},{"$f":"SUM(AY37,BA37,BC37,BE37)","v":0},null,null,null,null,null,null,null,null,null,{"$f":"IF(WEEKDAY($AX$20)=$AI37,1,0)","v":0},0,{"$f":"IF(WEEKDAY($AZ$20)=$AI37,1,0)","v":0},0,{"$f":"IF(WEEKDAY($BB$20)=$AI37,1,0)","v":0},null,{"$f":"IF(WEEKDAY($BD$20)=$AI37,1,0)","v":0},0,{"$f":"IF(WEEKDAY($BF$20)=$AI37,1,0)","v":0},0]
[{"$f":"AJ38-AM38-AG38","v":10},{"$f":"AK38-AN38-AH38","v":9},4,12,17,14,12,16,13,13,17,15,12,17,14,null,"1º P.",null,"2º P.",null,"3º P.",null,null,null,null,null,null,null,null,null,null,null,{"$f":"FERIADOS!$V$44","v":0},{"$f":"FERIADOS!$X$44","v":0},4,{"$f":"SUM(IF(WEEKDAY($G$17-1+ROW(INDIRECT(\"1:\"&TRUNC($G$18-$G$17)+1)))=$AI38,1,0))","v":11},{"$f":"SUM(IF(WEEKDAY($L$17-1+ROW(INDIRECT(\"1:\"&TRUNC($L$18-$L$17)+1)))=$AI38,1,0))","v":10},null,1,1,null,null,null,null,null,null,null,null,null,0,0,1,1,0,null,0,0,0,0]
[10,9,5,13,18,15,13,17,14,14,18,16,13,18,15,null,null,null,null,null,"turmas sem exame",null,"turmas com exame",null,"pré-escolar",null,null,null,null,null,null,null,{"$f":"FERIADOS!$V$45","v":0},{"$f":"FERIADOS!$X$45","v":0},5,{"$f":"SUM(IF(WEEKDAY($G$17-1+ROW(INDIRECT(\"1:\"&TRUNC($G$18-$G$17)+1)))=$AI39,1,0))","v":11},{"$f":"SUM(IF(WEEKDAY($L$17-1+ROW(INDIRECT(\"1:\"&TRUNC($L$18-$L$17)+1)))=$AI39,1,0))","v":10},null,{"$f":"SUM(AX39,AZ39,BB39,BD39)","v":1},1,null,null,null,null,null,null,null,null,null,1,1,0,0,0,null,0,0,0,0]
[11,10,6,14,19,16,14,18,15,15,19,17,14,19,16,null,{"$f":"CONCATENATE(TEXT(DATAS!$E$17,\"dd-mm-aa\"),\" a \",TEXT(DATAS!$E$18,\"dd-mm-aa\"))","v":"13-09-12 a 14-12-12"},null,{"$f":"CONCATENATE(TEXT(DATAS!$F$17,\"dd-mm-aa\"),\" a \",TEXT(DATAS!$F$18,\"dd-mm-aa\"))","v":"03-01-13 a 15-03-13"},null,{"$f":"CONCATENATE(TEXT(DATAS!$G$17,\"dd-mm-aa\"),\" a \",TEXT(DATAS!$G$18,\"dd-mm-aa\"))","v":"02-04-13 a 14-06-13"},null,{"$f":"CONCATENATE(TEXT(DATAS!$G$17,\"dd-mm-aa\"),\" a \",TEXT(DATAS!$L$18,\"dd-mm-aa\"))","v":"02-04-13 a 07-06-13"},null,{"$f":"CONCATENATE(TEXT(DATAS!$G$17,\"dd-mm-aa\"),\" a \",TEXT(DATAS!$H$18,\"dd-mm-aa\"))","v":"02-04-13 a 05-07-13"},null,null,null,null,null,null,null,{"$f":"FERIADOS!$V$46","v":0},{"$f":"FERIADOS!$X$46","v":0},6,{"$f":"SUM(IF(WEEKDAY($G$17-1+ROW(INDIRECT(\"1:\"&TRUNC($G$18-$G$17)+1)))=$AI40,1,0))","v":11},{"$f":"SUM(IF(WEEKDAY($L$17-1+ROW(INDIRECT(\"1:\"&TRUNC($L$18-$L$17)+1)))=$AI40,1,0))","v":10},null,0,0,null,null,null,null,null,null,null,null,null,0,0,0,0,0,null,0,0,0,0]
[null,null,"SA",15,20,17,15,19,16,16,20,18,15,20,17,null,"nº de feriados",null,"nº de feriados",null,"nº de feriados",null,"nº de feriados",null,"nº de feriados"]
["3ºP",null,"DO",16,21,18,16,20,17,17,21,19,16,21,18,null,"segunda",{"$f":"FERIADOS!R42","v":0},{"$f":"FERIADOS!S42","v":"segunda"},{"$f":"FERIADOS!T42","v":0},{"$f":"FERIADOS!U42","v":"segunda"},{"$f":"FERIADOS!V42","v":0},{"$f":"FERIADOS!W42","v":"segunda"},{"$f":"FERIADOS!X42","v":0},{"$f":"FERIADOS!Y42","v":"segunda"},{"$f":"FERIADOS!Z42","v":0}]
["Pré- Escolar",{"$f":"AJ44-AM44-AH44","v":12},2,17,22,19,17,21,18,18,22,20,17,22,19,null,"terça",{"$f":"FERIADOS!R43","v":0},{"$f":"FERIADOS!S43","v":"terça"},{"$f":"FERIADOS!T43","v":0},{"$f":"FERIADOS!U43","v":"terça"},{"$f":"FERIADOS!V43","v":0},{"$f":"FERIADOS!W43","v":"terça"},{"$f":"FERIADOS!X43","v":0},{"$f":"FERIADOS!Y43","v":"terça"},{"$f":"FERIADOS!Z43","v":0},null,null,null,null,null,null,"3º P.",null,"3º P  Pré-escolar",null,null,null,null,null,null,null,null,null,null,null,1,1]
[null,{"$f":"AJ45-AM45-AH45","v":14},3,18,23,20,18,22,19,19,23,21,18,23,20,null,"quarta",{"$f":"FERIADOS!R44","v":0},{"$f":"FERIADOS!S44","v":"quarta"},{"$f":"FERIADOS!T44","v":0},{"$f":"FERIADOS!U44","v":"quarta"},{"$f":"FERIADOS!V44","v":0},{"$f":"FERIADOS!W44","v":"quarta"},{"$f":"FERIADOS!X44","v":0},{"$f":"FERIADOS!Y44","v":"quarta"},{"$f":"FERIADOS!Z44","v":0},null,null,null,null,null,null,"segunda",{"$f":"FERIADOS!$Z$42","v":0},2,{"$f":"SUM(IF(WEEKDAY($G$17-1+ROW(INDIRECT(\"1:\"&TRUNC($H$18-$G$17)+1)))=$AI44,1,0))","v":13},null,null,{"$f":"AM36","v":1},null,null,null,null,null,null,null,2,2]
[null,13,4,19,24,21,19,23,20,20,24,22,19,24,21,null,"quinta",{"$f":"FERIADOS!R45","v":0},{"$f":"FERIADOS!S45","v":"quinta"},{"$f":"FERIADOS!T45","v":0},{"$f":"FERIADOS!U45","v":"quinta"},{"$f":"FERIADOS!V45","v":0},{"$f":"FERIADOS!W45","v":"quinta"},{"$f":"FERIADOS!X45","v":0},{"$f":"FERIADOS!Y45","v":"quinta"},{"$f":"FERIADOS!Z45","v":0},null,null,null,null,null,null,"terça",{"$f":"FERIADOS!$Z$43","v":0},3,{"$f":"SUM(IF(WEEKDAY($G$17-1+ROW(INDIRECT(\"1:\"&TRUNC($H$18-$G$17)+1)))=$AI45,1,0))","v":14},null,null,0,null,"páscoa",{"$f":"pas_1","v":"2013-03-31"},null,"março","abril",null,3,3]
[null,13,5,20,25,22,20,24,21,21,25,23,20,25,22,null,"sexta",{"$f":"FERIADOS!R46","v":0},{"$f":"FERIADOS!S46","v":"sexta"},{"$f":"FERIADOS!T46","v":0},{"$f":"FERIADOS!U46","v":"sexta"},{"$f":"FERIADOS!V46","v":0},{"$f":"FERIADOS!W46","v":"sexta"},{"$f":"FERIADOS!X46","v":0},{"$f":"FERIADOS!Y46","v":"sexta"},{"$f":"FERIADOS!Z46","v":0},null,null,null,null,null,null,"quarta",{"$f":"FERIADOS!$Z$44","v":0},4,{"$f":"SUM(IF(WEEKDAY($G$17-1+ROW(INDIRECT(\"1:\"&TRUNC($H$18-$G$17)+1)))=$AI46,1,0))","v":14},null,null,1,null,14,{"$f":"$AP$45-AO46","v":"2013-03-17"},null,null,null,null,4,4]
[null,14,6,21,26,23,21,25,22,22,26,24,21,26,23,null,null,null,null,null,null,null,null,null,null,null,null,null,null,null,null,null,"quinta",{"$f":"FERIADOS!$Z$45","v":0},5,{"$f":"SUM(IF(WEEKDAY($G$17-1+ROW(INDIRECT(\"1:\"&TRUNC($H$18-$G$17)+1)))=$AI47,1,0))","v":14},null,null,1,null,13,{"$f":"$AP$45-AO47","v":"2013-03-18"},null,{"$f":"IF(MONTH(AP47)=3,DAY(AP47),\"\")","v":18},{"$f":"IF(MONTH(AP47)=4,DAY(AP47),\"\")","v":""},null,5,5]
["início",null,"SA",22,27,24,22,26,23,23,27,25,22,27,24,null,null,null,null,null,null,null,null,null,null,null,null,null,null,null,null,null,"sexta",{"$f":"FERIADOS!$Z$46","v":0},6,{"$f":"SUM(IF(WEEKDAY($G$17-1+ROW(INDIRECT(\"1:\"&TRUNC($H$18-$G$17)+1)))=$AI48,1,0))","v":14},null,null,0,null,12,{"$f":"$AP$45-AO48","v":"2013-03-19"},null,19,"",null,6,6]
[{"$f":"DATAS!$E$17","v":"2012-09-13"},{"$f":"DATAS!$J$17","v":"2012-09-13"},"DO",23,28,25,23,27,24,24,28,26,23,28,25,null,null,null,null,null,null,null,null,null,null,null,null,null,null,null,null,null,null,null,null,null,null,null,null,null,11,"2013-03-20",null,20,"",null,7,7]
[null,null,2,24,29,26,24,28,25,25,29,27,24,29,26,null,null,null,null,null,null,null,null,null,null,null,null,null,null,null,null,null,null,null,null,null,null,null,null,null,10,"2013-03-21",null,21,"",null,8,8]
["fim",null,3,25,30,27,25,29,26,26,30,28,25,30,27,null,null,null,null,null,null,null,null,null,null,null,null,null,null,null,null,null,null,null,null,null,null,null,null,null,9,"2013-03-22",null,22,"",null,9,9]
[{"$f":"DATAS!$G$18","v":"2013-06-14"},{"$f":"DATAS!$L$18","v":"2013-06-07"},4,26,31,28,26,30,27,27,0,29,26,31,28,null,null,null,null,null,null,null,null,null,null,null,null,null,null,null,null,null,null,null,null,null,null,null,null,null,8,"2013-03-23",null,23,"",null,10,10]
[null,null,5,27,0,29,27,31,28,28,0,30,27,0,29,null,null,null,null,null,null,null,null,null,null,null,null,null,null,null,null,null,null,null,null,null,null,null,null,null,7,"2013-03-24",null,24,"",null,11,11]
[null,null,6,28,0,30,28,0,0,29,0,31,28,0,30,null,null,null,null,null,null,null,null,null,null,null,null,null,null,null,null,null,null,null,null,null,null,null,null,null,6,"2013-03-25",null,25,"",null,12,12]
["Pré- Escolar",{"$f":"DATAS!$H$18","v":"2013-07-05"},"SA",29,0,0,29,0,0,30,0,0,29,0,31,null,null,null,null,null,null,null,null,null,null,null,null,null,null,null,null,null,null,null,null,null,null,null,null,null,5,"2013-03-26",null,26,"",null,13,13]
[null,null,"DO",30,0,0,30,0,0,31,0,0,30,0,0,null,null,null,null,null,null,null,null,null,null,null,null,null,null,null,null,null,null,null,null,null,null,null,null,null,4,"2013-03-27",null,27,"",null,14,14]
[null,null,2,0,0,0,31,0,0,0,0,0,0,0,0,null,null,null,null,null,null,null,null,null,null,null,null,null,null,null,null,null,null,null,null,null,null,null,null,null,3,"2013-03-28",null,28,"",null,15,15]
[null,null,3,0,0,0,0,0,0,0,0,0,0,0,0,null,null,null,null,null,null,null,null,null,null,null,null,null,null,null,null,null,null,null,null,null,null,null,null,null,2,"2013-03-29",null,29,"",null,16,16]
[null,null,null,{"$f":"AD21","v":"2013-01-01"},{"$f":"AE21","v":"Ano Novo *"},null,{"$f":"AD25","v":"2013-04-25"},{"$f":"AE25","v":"Dia Liberdade"},null,{"$f":"AD29","v":"2013-08-15"},{"$f":"AE29","v":"Assunção Nª Srª. *"},null,{"$f":"AD33","v":"2012-12-08"},{"$f":"AE33","v":"Nª Srª. Da Conceição"},null,null,null,null,null,null,null,null,null,null,null,null,null,null,null,null,null,null,null,null,null,null,null,null,null,null,1,"2013-03-30",null,30,"",null,17,17]
[null,null,null,{"$f":"car_1","v":"2013-02-12"},{"$f":"AE22","v":"Carnaval *"},null,{"$f":"AD26","v":"2013-05-01"},{"$f":"AE26","v":"Dia Trabalhador"},null,{"$f":"AD30","v":"2012-10-05"},"Implant. República",null,{"$f":"AD34","v":"2012-12-25"},{"$f":"AE34","v":"Natal *"},null,null,null,null,null,null,null,null,null,null,null,null,null,null,null,null,null,null,null,null,null,null,null,null,null,null,0,"2013-03-31",null,31,"",null,18,18]
[null,null,null,{"$f":"ss_1","v":"2013-03-29"},"Sexta-F. Santa *",null,"2013-06-10","Dia Portugal",null,{"$f":"AD31","v":"2012-11-01"},"Todos os Santos",null,null,null,null,null,null,null,null,null,null,null,null,null,null,null,null,null,null,null,null,null,null,null,null,null,null,null,null,null,-1,"2013-04-01",null,"",1,null,19,19]
[null,null,null,{"$f":"pas_1","v":"2013-03-31"},"Páscoa *",null,"2013-05-30","Corpo de Deus",null,{"$f":"AD32","v":"2012-12-01"},"Restaur. Indepen.",null,null,null,null,null,null,null,null,null,null,null,null,null,null,null,null,null,null,null,null,null,null,null,null,null,null,null,null,null,null,null,"min",{"$f":"MIN(AR46:AR61)","v":18},{"$f":"MIN(AS46:AS61)","v":1},null,20,20]
[null,null,null,null,null,null,null,null,null,null,null,null,null,null,null,null,null,null,null,null,null,null,null,null,null,null,null,null,null,null,null,null,null,null,null,null,null,null,null,null,null,null,"max",{"$f":"MAX(AR46:AR61)","v":31},{"$f":"MAX(AS46:AS61)","v":1},null,21,21]
[null,null,null,null,null,null,null,null,null,null,null,null,null,null,null,null,null,null,null,null,null,null,null,null,null,null,null,null,null,null,null,null,null,null,null,null,null,null,null,null,null,null,null,null,null,null,22,22]
[null,null,null,null,null,null,null,null,null,null,null,null,null,null,null,null,null,null,null,null,null,null,null,null,null,null,null,null,null,null,null,null,null,null,null,null,null,null,null,null,null,null,null,null,null,null,23,23]
[null,null,null,null,null,null,null,null,null,null,null,null,null,null,null,null,null,null,null,null,null,null,null,null,null,null,null,null,null,null,null,null,null,null,null,null,null,null,null,null,null,null,null,null,null,null,24,24]
[null,null,null,null,null,null,null,null,null,null,null,null,null,null,null,null,null,null,null,null,null,null,null,null,null,null,null,null,null,null,null,null,null,null,null,null,null,null,null,null,null,null,null,null,null,null,25,25]
[null,"JJ",null,null,null,null,null,null,null,null,null,null,null,null,null,null,null,null,null,null,null,null,null,null,null,null,null,null,null,null,null,null,null,null,null,null,null,null,null,null,null,null,null,null,null,null,26,26]
[null,null,null,null,null,null,null,null,null,null,null,null,null,null,null,null,null,null,null,null,null,null,null,null,null,null,null,null,null,null,null,null,null,null,null,null,null,null,null,null,null,null,null,null,null,null,27,27]
[null,null,null,null,null,null,null,null,null,null,null,null,null,null,null,null,null,null,null,null,null,null,null,null,null,null,null,null,null,null,null,null,null,null,null,null,null,null,null,null,null,null,null,null,null,null,28,28]
[null,null,null,null,null,null,null,null,null,null,null,null,null,null,null,null,null,null,null,null,null,null,null,null,null,null,null,null,null,null,null,null,null,null,null,null,null,null,null,null,null,null,null,null,null,null,29,29]
[null,null,null,null,null,null,null,null,null,null,null,null,null,null,null,null,null,null,null,null,null,null,null,null,null,null,null,null,null,null,null,null,null,null,null,null,null,null,null,null,null,null,null,null,null,null,30,30]
[null,null,null,null,null,null,null,null,null,null,null,null,null,null,null,null,null,null,null,null,null,null,null,null,null,null,null,null,null,null,null,null,null,null,null,null,null,null,null,null,null,null,null,null,null,null,31,31]

{"sheet":"FERIADOS","index":3,"n_rows":48,"n_cols":28,"rows_kept":48,"cut":false,"hidden":false,"merged":[[19,21,19,23],[37,16,37,17],[37,18,37,19],[37,20,37,25],[19,18,19,20],[19,24,19,26],[50,16,50,30],[39,16,39,17],[39,18,39,19],[39,20,39,21],[39,22,39,23],[39,24,39,25],[40,16,40,17],[40,18,40,19],[40,20,40,21],[40,22,40,23],[40,24,40,25],[38,16,38,17],[38,18,38,19],[38,20,38,21],[38,22,38,23],[38,24,38,25]]}
[]
[]
[]
[]
[]
[]
[]
[]
[]
[]
[]
[]
[]
[]
[]
[]
[]
[null,null,null,null,null,null,null,null,null,null,null,null,null,null,null,null,null,"  Definição de feriados em vigor"]
[]
[null,null,null,null,null,null,null,null,null,null,null,null,null,null,null,null,null,null,"Feriados Municipais",null,null,"Feriados Nacionais"]
[null,null,null,null,null,null,null,null,null,null,null,null,null,null,null,null,null,null,null,null,null,null,null,null,null,{"$f":"DATE(ANUAL!$O$17,1,1)","v":"2013-01-01"},"Ano Novo *"]
[null,null,null,null,null,null,null,null,null,null,null,null,null,null,null,null,null,null,null,"DATAS (dd-mm-aaaa)",null,null,null,null,null,{"$f":"car_1","v":"2013-02-12"},"Carnaval *"]
[null,null,null,null,null,null,null,null,null,{"$f":"IF(AND(DATAS!$E$17<=$T23,$T23<=DATAS!$E$18),WEEKDAY($T23),\"0\")","v":"0"},{"$f":"IF(AND(DATAS!$F$17<=$T23,$T23<=DATAS!$F$18),WEEKDAY($T23),\"0\")","v":"0"},{"$f":"IF(AND(DATAS!$G$17<=$T23,$T23<=DATAS!$G$18),WEEKDAY($T23),\"0\")","v":"0"},{"$f":"IF(AND(DATAS!$L$17<=$T23,$T23<=DATAS!$L$18),WEEKDAY($T23),\"0\")","v":"0"},{"$f":"IF(AND(DATAS!$G$17<=$T23,$T23<=DATAS!$H$18),WEEKDAY($T23),\"0\")","v":"0"},null,null,null,null,null,null,{"$f":"IF(AND($T23<>0,$T23<DATAS!$E$17),\"Verifique o ano!\",0)","v":0},null,null,null,null,{"$f":"ss_1","v":"2013-03-29"},"Sexta-F. Santa *"]
[null,null,null,null,null,null,null,null,null,{"$f":"IF(AND(DATAS!$E$17<=$T24,$T24<=DATAS!$E$18),WEEKDAY($T24),\"0\")","v":"0"},{"$f":"IF(AND(DATAS!$F$17<=$T24,$T24<=DATAS!$F$18),WEEKDAY($T24),\"0\")","v":"0"},{"$f":"IF(AND(DATAS!$G$17<=$T24,$T24<=DATAS!$G$18),WEEKDAY($T24),\"0\")","v":"0"},{"$f":"IF(AND(DATAS!$L$17<=$T24,$T24<=DATAS!$L$18),WEEKDAY($T24),\"0\")","v":"0"},{"$f":"IF(AND(DATAS!$G$17<=$T24,$T24<=DATAS!$H$18),WEEKDAY($T24),\"0\")","v":"0"},null,null,null,null,null,null,{"$f":"IF(AND($T24<>0,$T24<DATAS!$E$17),\"Verifique o ano!\",0)","v":0},null,null,null,null,{"$f":"pas_1","v":"2013-03-31"},"Páscoa *"]
[null,null,null,null,null,null,null,null,null,{"$f":"IF(AND(DATAS!$E$17<=$T25,$T25<=DATAS!$E$18),WEEKDAY($T25),\"0\")","v":"0"},{"$f":"IF(AND(DATAS!$F$17<=$T25,$T25<=DATAS!$F$18),WEEKDAY($T25),\"0\")","v":"0"},{"$f":"IF(AND(DATAS!$G$17<=$T25,$T25<=DATAS!$G$18),WEEKDAY($T25),\"0\")","v":"0"},{"$f":"IF(AND(DATAS!$L$17<=$T25,$T25<=DATAS!$L$18),WEEKDAY($T25),\"0\")","v":"0"},{"$f":"IF(AND(DATAS!$G$17<=$T25,$T25<=DATAS!$H$18),WEEKDAY($T25),\"0\")","v":"0"},null,null,null,null,null,null,{"$f":"IF(AND($T25<>0,$T25<DATAS!$E$17),\"Verifique o ano!\",0)","v":0},null,null,null,null,{"$f":"DATE(ANUAL!$O$17,4,25)","v":"2013-04-25"},"Dia Liberdade",{"$f":"IF(ANUAL!$AX$18=FALSE,\"suspenso\",\"\")","v":""}]
[null,null,null,null,null,null,null,null,null,{"$f":"IF(AND(DATAS!$E$17<=$T26,$T26<=DATAS!$E$18),WEEKDAY($T26),\"0\")","v":"0"},{"$f":"IF(AND(DATAS!$F$17<=$T26,$T26<=DATAS!$F$18),WEEKDAY($T26),\"0\")","v":"0"},{"$f":"IF(AND(DATAS!$G$17<=$T26,$T26<=DATAS!$G$18),WEEKDAY($T26),\"0\")","v":"0"},{"$f":"IF(AND(DATAS!$L$17<=$T26,$T26<=DATAS!$L$18),WEEKDAY($T26),\"0\")","v":"0"},{"$f":"IF(AND(DATAS!$G$17<=$T26,$T26<=DATAS!$H$18),WEEKDAY($T26),\"0\")","v":"0"},null,null,null,null,null,null,{"$f":"IF(AND($T26<>0,$T26<DATAS!$E$17),\"Verifique o ano!\",0)","v":0},null,null,null,null,{"$f":"DATE(ANUAL!$O$17,5,1)","v":"2013-05-01"},"Dia Trabalhador",{"$f":"IF(ANUAL!$AZ$18=FALSE,\"suspenso\",\"\")","v":""}]
[null,null,null,null,null,null,null,null,null,{"$f":"IF(AND(DATAS!$E$17<=$T27,$T27<=DATAS!$E$18),WEEKDAY($T27),\"0\")","v":"0"},{"$f":"IF(AND(DATAS!$F$17<=$T27,$T27<=DATAS!$F$18),WEEKDAY($T27),\"0\")","v":"0"},{"$f":"IF(AND(DATAS!$G$17<=$T27,$T27<=DATAS!$G$18),WEEKDAY($T27),\"0\")","v":"0"},{"$f":"IF(AND(DATAS!$L$17<=$T27,$T27<=DATAS!$L$18),WEEKDAY($T27),\"0\")","v":"0"},{"$f":"IF(AND(DATAS!$G$17<=$T27,$T27<=DATAS!$H$18),WEEKDAY($T27),\"0\")","v":"0"},null,null,null,null,null,null,{"$f":"IF(AND($T27<>0,$T27<DATAS!$E$17),\"Verifique o ano!\",0)","v":0},null,null,null,null,{"$f":"DATE(ANUAL!$O$17,6,10)","v":"2013-06-10"},"Dia Portugal",{"$f":"IF(ANUAL!$BB$18=FALSE,\"suspenso\",\"\")","v":""}]
[null,null,null,null,null,null,null,null,null,{"$f":"IF(AND(DATAS!$E$17<=$T28,$T28<=DATAS!$E$18),WEEKDAY($T28),\"0\")","v":"0"},{"$f":"IF(AND(DATAS!$F$17<=$T28,$T28<=DATAS!$F$18),WEEKDAY($T28),\"0\")","v":"0"},{"$f":"IF(AND(DATAS!$G$17<=$T28,$T28<=DATAS!$G$18),WEEKDAY($T28),\"0\")","v":"0"},{"$f":"IF(AND(DATAS!$L$17<=$T28,$T28<=DATAS!$L$18),WEEKDAY($T28),\"0\")","v":"0"},{"$f":"IF(AND(DATAS!$G$17<=$T28,$T28<=DATAS!$H$18),WEEKDAY($T28),\"0\")","v":"0"},null,null,null,null,null,null,{"$f":"IF(AND($T28<>0,$T28<DATAS!$E$17),\"Verifique o ano!\",0)","v":0},null,null,null,null,{"$f":"cd_1","v":"2013-05-30"},"Corpo de Deus",{"$f":"IF(ANUAL!$BD$18=FALSE,\"suspenso\",\"\")","v":"suspenso"}]
[null,null,null,null,null,null,null,null,null,{"$f":"IF(AND(DATAS!$E$17<=$T29,$T29<=DATAS!$E$18),WEEKDAY($T29),\"0\")","v":"0"},{"$f":"IF(AND(DATAS!$F$17<=$T29,$T29<=DATAS!$F$18),WEEKDAY($T29),\"0\")","v":"0"},{"$f":"IF(AND(DATAS!$G$17<=$T29,$T29<=DATAS!$G$18),WEEKDAY($T29),\"0\")","v":"0"},{"$f":"IF(AND(DATAS!$L$17<=$T29,$T29<=DATAS!$L$18),WEEKDAY($T29),\"0\")","v":"0"},{"$f":"IF(AND(DATAS!$G$17<=$T29,$T29<=DATAS!$H$18),WEEKDAY($T29),\"0\")","v":"0"},null,null,null,null,null,null,{"$f":"IF(AND($T29<>0,$T29<DATAS!$E$17),\"Verifique o ano!\",0)","v":0},null,null,null,null,{"$f":"DATE(ANUAL!$O$17,8,15)","v":"2013-08-15"},"Assunção Nª Srª. *"]
[null,null,null,null,null,null,null,null,null,{"$f":"IF(AND(DATAS!$E$17<=$T30,$T30<=DATAS!$E$18),WEEKDAY($T30),\"0\")","v":"0"},{"$f":"IF(AND(DATAS!$F$17<=$T30,$T30<=DATAS!$F$18),WEEKDAY($T30),\"0\")","v":"0"},{"$f":"IF(AND(DATAS!$G$17<=$T30,$T30<=DATAS!$G$18),WEEKDAY($T30),\"0\")","v":"0"},{"$f":"IF(AND(DATAS!$L$17<=$T30,$T30<=DATAS!$L$18),WEEKDAY($T30),\"0\")","v":"0"},{"$f":"IF(AND(DATAS!$G$17<=$T30,$T30<=DATAS!$H$18),WEEKDAY($T30),\"0\")","v":"0"},null,null,null,null,null,null,{"$f":"IF(AND($T30<>0,$T30<DATAS!$E$17),\"Verifique o ano!\",0)","v":0},null,null,null,null,{"$f":"DATE(ANUAL!$N$17,10,5)","v":"2012-10-05"},"Implant. República",{"$f":"IF(ANUAL!$BH$18=FALSE,\"suspenso\",\"\")","v":""}]
[null,null,null,null,null,null,null,null,null,null,null,null,null,null,null,null,null,null,null,null,null,null,null,null,null,{"$f":"DATE(ANUAL!$N$17,11,1)","v":"2012-11-01"},"Todos os Santos",{"$f":"IF(ANUAL!$BJ$18=FALSE,\"suspenso\",\"\")","v":""}]
[null,null,null,null,null,null,null,null,null,null,null,null,null,null,null,null,null,null,null,null,null,null,null,null,null,{"$f":"DATE(ANUAL!$N$17,12,1)","v":"2012-12-01"},"Restaur. Indepen.",{"$f":"IF(ANUAL!$BL$18=FALSE,\"suspenso\",\"\")","v":""}]
[null,null,null,null,null,null,null,null,null,null,null,null,null,null,null,null,null,null,null,{"$f":"COUNTA(T23:T30)","v":0},{"$f":"COUNTIF(U23:U30,\"<>0\")","v":0},null,null,null,null,{"$f":"DATE(ANUAL!$N$17,12,8)","v":"2012-12-08"},"Nª Srª. Da Conceição",{"$f":"IF(ANUAL!$BN$18=FALSE,\"suspenso\",\"\")","v":""}]
[null,null,null,null,null,null,null,null,null,null,null,null,null,null,null,null,null,null,null,null,null,null,null,null,null,{"$f":"DATE(ANUAL!$N$17,12,25)","v":"2012-12-25"},"Natal *"]
[null,null,null,null,null,null,null,null,null,null,null,null,null,null,null,null,null,null,null,null,null,null,null,null,"* feriados fora dos períodos letivos"]
[]
[null,null,null,null,null,null,null,null,null,null,null,null,null,null,null,null,"Distribuição dos feriados municipais por período e dia de semana úteis (informação)"]
[null,null,null,null,null,null,null,null,null,null,null,null,null,null,null,null,"1º P.",null,"2º P.",null,"3º P."]
[null,null,null,null,null,null,null,null,null,null,null,null,null,null,null,null,null,null,null,null,"turmas sem exame",null,"turmas com exame",null,"pré-escolar"]
[null,null,null,null,null,null,null,null,null,null,null,null,null,null,null,null,{"$f":"CONCATENATE(TEXT(DATAS!$E$17,\"dd-mm-aa\"),\" a \",TEXT(DATAS!$E$18,\"dd-mm-aa\"))","v":"13-09-12 a 14-12-12"},null,{"$f":"CONCATENATE(TEXT(DATAS!$F$17,\"dd-mm-aa\"),\" a \",TEXT(DATAS!$F$18,\"dd-mm-aa\"))","v":"03-01-13 a 15-03-13"},null,{"$f":"CONCATENATE(TEXT(DATAS!$G$17,\"dd-mm-aa\"),\" a \",TEXT(DATAS!$G$18,\"dd-mm-aa\"))","v":"02-04-13 a 14-06-13"},null,{"$f":"CONCATENATE(TEXT(DATAS!$G$17,\"dd-mm-aa\"),\" a \",TEXT(DATAS!$L$18,\"dd-mm-aa\"))","v":"02-04-13 a 07-06-13"},null,{"$f":"CONCATENATE(TEXT(DATAS!$G$17,\"dd-mm-aa\"),\" a \",TEXT(DATAS!$H$18,\"dd-mm-aa\"))","v":"02-04-13 a 05-07-13"}]
[null,null,null,null,null,null,null,null,null,null,null,null,null,null,null,null,"nº de fer.",null,"nº de fer.",null,"nº de fer.",null,"nº de fer.",null,"nº de fer."]
[null,null,null,null,null,null,null,null,null,null,null,null,null,null,null,null,"segunda",{"$f":"COUNTIF($J$23:$J$30,2)","v":0},"segunda",{"$f":"COUNTIF($K$23:$K$30,2)","v":0},"segunda",{"$f":"COUNTIF($L$23:$L$30,2)","v":0},"segunda",{"$f":"COUNTIF($M$23:$M$30,2)","v":0},"segunda",{"$f":"COUNTIF($N$23:$N$30,2)","v":0}]
[null,null,null,null,null,null,null,null,null,null,null,null,null,null,null,null,"terça",{"$f":"COUNTIF($J$23:$J$30,3)","v":0},"terça",{"$f":"COUNTIF($K$23:$K$30,3)","v":0},"terça",{"$f":"COUNTIF($L$23:$L$30,3)","v":0},"terça",{"$f":"COUNTIF($M$23:$M$30,3)","v":0},"terça",{"$f":"COUNTIF($N$23:$N$30,3)","v":0}]
[null,null,null,null,null,null,null,null,null,null,null,null,null,null,null,null,"quarta",{"$f":"COUNTIF($J$23:$J$30,4)","v":0},"quarta",{"$f":"COUNTIF($K$23:$K$30,4)","v":0},"quarta",{"$f":"COUNTIF($L$23:$L$30,4)","v":0},"quarta",{"$f":"COUNTIF($M$23:$M$30,4)","v":0},"quarta",{"$f":"COUNTIF($N$23:$N$30,4)","v":0}]
[null,null,null,null,null,null,null,null,null,null,null,null,null,null,null,null,"quinta",{"$f":"COUNTIF($J$23:$J$30,5)","v":0},"quinta",{"$f":"COUNTIF($K$23:$K$30,5)","v":0},"quinta",{"$f":"COUNTIF($L$23:$L$30,5)","v":0},"quinta",{"$f":"COUNTIF($M$23:$M$30,5)","v":0},"quinta",{"$f":"COUNTIF($N$23:$N$30,5)","v":0}]
[null,null,null,null,null,null,null,null,null,null,null,null,null,null,null,null,"sexta",{"$f":"COUNTIF($J$23:$J$30,6)","v":0},"sexta",{"$f":"COUNTIF($K$23:$K$30,6)","v":0},"sexta",{"$f":"COUNTIF($L$23:$L$30,6)","v":0},"sexta",{"$f":"COUNTIF($M$23:$M$30,6)","v":0},"sexta",{"$f":"COUNTIF($N$23:$N$30,6)","v":0}]
[null,null,null,null,null,null,null,null,null,null,null,null,null,null,null,null,"sábado",{"$f":"COUNTIF($J$23:$J$30,7)","v":0},"sábado",{"$f":"COUNTIF($K$23:$K$30,7)","v":0},"sábado",{"$f":"COUNTIF($L$23:$L$30,7)","v":0},"sábado",{"$f":"COUNTIF($M$23:$M$30,7)","v":0},"sábado",{"$f":"COUNTIF($N$23:$N$30,7)","v":0}]
[null,null,null,null,null,null,null,null,null,null,null,null,null,null,null,null,"domingo",{"$f":"COUNTIF($J$23:$J$30,1)","v":0},"domingo",{"$f":"COUNTIF($K$23:$K$30,1)","v":0},"domingo",{"$f":"COUNTIF($L$23:$L$30,1)","v":0},"domingo",{"$f":"COUNTIF($M$23:$M$30,1)","v":0},"domingo",{"$f":"COUNTIF($N$23:$N$30,1)","v":0}]

{"sheet":"TURMAS","index":4,"n_rows":57,"n_cols":48,"rows_kept":57,"cut":false,"hidden":false,"merged":[[12,1,12,2],[12,3,12,12],[14,8,14,11],[14,3,14,7],[9,14,9,15],[46,12,46,13],[46,14,46,15],[47,12,47,13],[47,14,47,15],[20,1,20,9],[18,3,18,11],[44,12,44,13],[44,14,44,15],[45,12,45,13],[45,14,45,15],[45,2,45,6],[46,2,46,6],[47,2,47,6],[47,7,47,9],[46,7,46,9],[45,7,45,9],[43,7,43,9],[42,7,42,9],[21,1,21,8],[22,0,34,0],[42,19,42,20],[42,21,42,22],[43,19,43,20],[43,21,43,22],[40,7,40,9],[41,7,41,9],[40,2,40,6],[41,2,41,6],[39,19,39,20],[39,21,39,22],[40,19,40,20],[40,21,40,22],[41,19,41,20],[41,21,41,22],[43,12,43,13],[43,14,43,15],[20,11,20,16],[21,18,21,23],[21,11,21,16],[20,18,20,23],[44,2,44,6],[44,7,44,9],[49,21,49,22],[48,21,48,22],[45,21,45,22],[45,19,45,20],[46,19,46,20],[47,19,47,20],[48,19,48,20],[47,21,47,22],[46,21,46,22],[44,19,44,20],[44,21,44,22],[56,19,56,20],[56,21,56,22],[51,14,51,15],[39,7,39,9],[11,1,11,2],[11,3,11,12],[11,20,11,23],[12,20,12,23],[18,18,18,23],[17,18,17,23],[35,11,35,19],[51,19,51,20],[51,21,51,22],[39,12,39,13],[39,14,39,15],[40,12,40,13],[40,14,40,15],[41,12,41,13],[41,14,41,15],[42,12,42,13],[42,14,42,15],[49,19,49,20],[50,19,50,20],[50,21,50,22],[59,19,59,20],[59,21,59,22],[60,12,60,13],[60,14,60,15],[60,19,60,20],[60,21,60,22],[57,12,57,13],[57,14,57,15],[57,19,57,20],[57,21,57,22],[58,12,58,13],[58,14,58,15],[58,19,58,20],[58,21,58,22],[59,12,59,13],[59,14,59,15],[61,14,61,15],[61,19,61,20],[61,21,61,22],[62,12,62,13],[62,14,62,15],[62,19,62,20],[62,21,62,22],[63,12,63,13],[63,14,63,15],[56,7,56,9],[67,19,67,20],[67,21,67,22],[68,12,68,13],[68,14,68,15],[68,19,68,20],[68,21,68,22],[65,12,65,13],[65,14,65,15],[65,19,65,20],[65,21,65,22],[66,12,66,13],[66,14,66,15],[66,19,66,20],[66,21,66,22],[67,12,67,13],[67,14,67,15],[63,19,63,20],[63,21,63,22],[64,12,64,13],[64,14,64,15],[64,19,64,20],[64,21,64,22],[61,12,61,13],[58,7,58,9],[59,7,59,9],[60,7,60,9],[60,2,60,6],[59,2,59,6],[58,2,58,6],[57,2,57,6],[61,7,61,9],[62,7,62,9],[63,7,63,9],[48,12,48,13],[48,14,48,15],[49,12,49,13],[49,14,49,15],[50,12,50,13],[50,14,50,15],[51,12,51,13],[42,2,42,6],[43,2,43,6],[48,2,48,6],[50,7,50,9],[49,7,49,9],[48,7,48,9],[49,2,49,6],[50,2,50,6],[51,2,51,6],[51,7,51,9],[63,2,63,6],[56,12,56,13],[56,14,56,15],[62,2,62,6],[61,2,61,6],[57,7,57,9],[64,7,64,9],[65,7,65,9],[66,7,66,9],[67,7,67,9],[68,7,68,9],[68,2,68,6],[67,2,67,6],[66,2,66,6],[65,2,65,6],[64,2,64,6]]}
[]
[null,null,null,null,null,null,null,null,null,null,null,null,null,null,null,null,null,null,null,null,null,null,null,null,null,{"$f":"ANUAL!A20","v":"sem exame"},null,null,null,{"$f":"ANUAL!B20","v":"com exame"}]
[null,null,null,null,null,null,null,null,null,null,null,null,null,null,null,null,null,null,null,null,null,null,null,null,null,{"$f":"ANUAL!A21","v":"1º P"},{"$f":"ANUAL!A28","v":"2º P"},{"$f":"ANUAL!A35","v":"3º P"},null,"1º P","2º P","3º P"]
[null,null,null,null,null,null,null,null,null,null,null,null,null,null,null,null,null,null,null,null,null,null,null,null,null,{"$f":"ANUAL!A22","v":13},{"$f":"ANUAL!A29","v":9},{"$f":"ANUAL!A36","v":9},null,{"$f":"ANUAL!B22","v":13},{"$f":"ANUAL!B36","v":9},{"$f":"ANUAL!B36","v":9}]
[null,null,null,null,null,null,null,null,null,null,null,null,null,null,null,null,null,null,null,null,null,null,null,null,null,{"$f":"ANUAL!A23","v":13},{"$f":"ANUAL!A30","v":9},{"$f":"ANUAL!A37","v":11},null,{"$f":"ANUAL!B23","v":13},{"$f":"ANUAL!B37","v":10},{"$f":"ANUAL!B37","v":10}]
[null,null,null,null,null,null,null,null,null,null,null,null,null,null,null,null,null,null,null,null,null,null,null,null,null,{"$f":"ANUAL!A24","v":13},{"$f":"ANUAL!A31","v":9},{"$f":"ANUAL!A38","v":10},null,{"$f":"ANUAL!B24","v":13},{"$f":"ANUAL!B38","v":9},{"$f":"ANUAL!B38","v":9}]
[null,null,null,null,null,null,null,null,null,null,null,null,null,null,null,null,null,null,null,null,null,null,null,null,null,{"$f":"ANUAL!A25","v":13},{"$f":"ANUAL!A32","v":11},{"$f":"ANUAL!A39","v":10},null,{"$f":"ANUAL!B25","v":13},{"$f":"ANUAL!B39","v":9},{"$f":"ANUAL!B39","v":9}]
[null,null,null,null,null,null,null,null,null,null,null,null,null,null,null,null,null,null,null,null,null,null,null,null,null,{"$f":"ANUAL!A26","v":13},{"$f":"ANUAL!A33","v":11},{"$f":"ANUAL!A40","v":11},null,{"$f":"ANUAL!B26","v":13},{"$f":"ANUAL!B40","v":10},{"$f":"ANUAL!B40","v":10}]
[null,null,null,null,null,null,null,null,null,null,null,null,null,null,null,null,null,null,null,null,null,null,null,null,"TOTAL",{"$f":"SUM(Z4:Z8)","v":65},{"$f":"SUM(AA4:AA8)","v":49},51,null,{"$f":"SUM(AD4:AD8)","v":65},{"$f":"SUM(AE4:AE8)","v":47},47]
[]
[]
[null,null,null,null,null,null,null,null,null,null,null,null,null,null,null,null,null,null,null,null,"ANO LETIVO"]
[null,null,null,null,null,null,null,null,null,null,null,null,null,null,null,null,null,null,null,null,{"$f":"CONCATENATE(YEAR($E$17),\" - \",YEAR($E$17+1))","v":"2012 - 2012"},null,null,null,null,null,null,0]
[null,null,null,{"$f":"DATAS!D14","v":0},{"$f":"DATAS!E14","v":0},{"$f":"DATAS!F14","v":0},{"$f":"DATAS!G14","v":0},{"$f":"DATAS!H14","v":0},{"$f":"DATAS!I14","v":0},{"$f":"DATAS!J14","v":0},{"$f":"DATAS!K14","v":0},{"$f":"DATAS!L14","v":0},{"$f":"DATAS!M14","v":0},null,null,null,null,null,null,null,null,null,null,"Prof.(a)",null,null,null,0]
[null,null,null,{"$f":"DATAS!D15","v":"Pré-Esc., 1º, 2º, 3º, 4º, 5º, 7º, 8º e 10º anos"},null,null,null,null,{"$f":"DATAS!I15","v":"6º, 9º 11º e 12º anos"},null,null,null,{"$f":"DATAS!M15","v":0},null,null,null,null,null,null,null,null,null,null,null,null,null,null,"NÃO"]
[null,null,null,{"$f":"DATAS!D16","v":"SEM  EXAMES"},{"$f":"DATAS!E16","v":"1º P"},{"$f":"DATAS!F16","v":"2º P"},{"$f":"DATAS!G16","v":"3º P"},{"$f":"DATAS!H16","v":"Pré-Esc."},{"$f":"DATAS!I16","v":"COM EXAMES"},{"$f":"DATAS!J16","v":"1º P"},{"$f":"DATAS!K16","v":"2º P"},{"$f":"DATAS!L16","v":"3º P"},{"$f":"DATAS!M16","v":0},null,null,null,null,null,null,null,null,null,null,null,null,null,null,"SIM"]
[null,null,null,{"$f":"DATAS!D17","v":"início"},{"$f":"DATAS!E17","v":"2012-09-13"},{"$f":"DATAS!F17","v":"2013-01-03"},{"$f":"DATAS!G17","v":"2013-04-02"},{"$f":"DATAS!H17","v":0},{"$f":"DATAS!I17","v":"início"},{"$f":"DATAS!J17","v":"2012-09-13"},{"$f":"DATAS!K17","v":"2013-01-03"},{"$f":"DATAS!L17","v":"2013-04-02"},{"$f":"DATAS!M17","v":0}]
[null,null,null,{"$f":"DATAS!D18","v":"fim"},{"$f":"DATAS!E18","v":"2012-12-14"},{"$f":"DATAS!F18","v":"2013-03-15"},{"$f":"DATAS!G18","v":"2013-06-14"},{"$f":"DATAS!H18","v":"2013-07-05"},{"$f":"DATAS!I18","v":"fim"},{"$f":"DATAS!J18","v":"2012-12-14"},{"$f":"DATAS!K18","v":"2013-03-15"},{"$f":"DATAS!L18","v":"2013-06-07"},{"$f":"DATAS!M18","v":0}]
[null,null,null,null,null,null,null,null,null,null,null,null,{"$f":"DATAS!M19","v":0}]
[null,null,null,null,null,null,null,null,null,null,null,null,null,null,null,null,null,null,null,null,null,null,null,null,null,{"$f":"ANUAL!A21","v":"1º P"},{"$f":"ANUAL!A22","v":13},{"$f":"ANUAL!A23","v":13},{"$f":"ANUAL!A24","v":13},{"$f":"ANUAL!A25","v":13},{"$f":"ANUAL!A26","v":13},{"$f":"SUM(AA20:AE20)","v":65}]
[null,"DISTRIBUIÇÃO SEMANAL - nº de tempos letivos por turma",null,null,null,null,null,null,null,null,null,"AULAS PREVISTAS (1º ao 12º anos)",null,null,null,null,null,null,"AULAS DADAS",null,null,null,null,null,null,null,null,null,null,null,null,null,null,{"$f":"ANUAL!A28","v":"2º P"},{"$f":"ANUAL!A29","v":9},{"$f":"ANUAL!A30","v":9},{"$f":"ANUAL!A31","v":9},{"$f":"ANUAL!A32","v":11},{"$f":"ANUAL!A33","v":11},{"$f":"SUM(AI21:AM21)","v":49}]
[null,null,null,null,null,null,null,null,null,null,null,null,null,null,null,null,null,null,null,null,null,null,null,null,null,null,null,null,null,null,null,null,null,null,null,null,null,null,null,null,null,{"$f":"ANUAL!A35","v":"3º P"},{"$f":"ANUAL!A36","v":9},{"$f":"ANUAL!A37","v":11},{"$f":"ANUAL!A38","v":10},{"$f":"ANUAL!A39","v":10},{"$f":"ANUAL!A40","v":11},51]
[null,"TURMA","DISCIP.","TEM EXAME","SEG.","TER.","QUA.","QUI.","SEX.","TOTAL",null,"TURMA","DISCIP.","1º Per.","2º Per.","3º Per.","TOTAL",null,"TURMA","DISCIP.","1º Per.","2º Per.","3º Per.","TOTAL",null,null,"SEG.","TER.","QUA.","QUI.","SEX.","TOTAL",null,null,"SEG.","TER.","QUA.","QUI.","SEX.","TOTAL",null,null,"SEG.","TER.","QUA.","QUI.","SEX.","TOTAL"]
[null,"7º A","Port.","NÃO",2,null,2,1,null,{"$f":"SUM(E24:I24)","v":5},null,{"$f":"B24","v":"7º A"},{"$f":"C24","v":"Port."},{"$f":"IF($D24=0,\"\",IF($D24=\"NÃO\",SUM(AA24:AE24),SUM(AA40:AE40)))","v":65},{"$f":"IF($D24=0,\"\",IF($D24=\"NÃO\",SUM(AI24:AM24),SUM(AI40:AM40)))","v":47},{"$f":"IF($D24=0,\"\",IF($D24=\"NÃO\",SUM(AQ24:AU24),SUM(AQ40:AU40)))","v":48},{"$f":"SUM(N24:P24)","v":160},null,{"$f":"B24","v":"7º A"},{"$f":"C24","v":"Port."},null,null,null,{"$f":"SUM(U24:W24)","v":0},null,null,{"$f":"$E24*$AA$20","v":26},{"$f":"$F24*$AB$20","v":0},{"$f":"$G24*$AC$20","v":26},{"$f":"$H24*$AD$20","v":13},{"$f":"$I24*$AE$20","v":0},{"$f":"SUM(AA24:AE24)","v":65},null,null,{"$f":"$E24*$AI$21","v":18},{"$f":"$F24*$AJ$21","v":0},{"$f":"$G24*$AK$21","v":18},{"$f":"$H24*$AL$21","v":11},{"$f":"$I24*$AM$21","v":0},{"$f":"SUM(AI24:AM24)","v":47},null,null,{"$f":"$E24*$AQ$22","v":18},{"$f":"$F24*$AR$22","v":0},{"$f":"$G24*$AS$22","v":20},{"$f":"$H24*$AT$22","v":10},{"$f":"$I24*$AU$22","v":0},{"$f":"SUM(AQ24:AU24)","v":48}]
[null,"9º A","Port.","SIM",null,2,1,null,2,{"$f":"SUM(E25:I25)","v":5},null,"9º A","Port.",{"$f":"IF($D25=0,\"\",IF($D25=\"NÃO\",SUM(AA25:AE25),SUM(AA41:AE41)))","v":65},{"$f":"IF($D25=0,\"\",IF($D25=\"NÃO\",SUM(AI25:AM25),SUM(AI41:AM41)))","v":49},{"$f":"IF($D25=0,\"\",IF($D25=\"NÃO\",SUM(AQ25:AU25),SUM(AQ41:AU41)))","v":49},{"$f":"SUM(N25:P25)","v":163},null,"9º A","Port.",null,null,null,{"$f":"SUM(U25:W25)","v":0},null,null,{"$f":"$E25*$AA$20","v":0},{"$f":"$F25*$AB$20","v":26},{"$f":"$G25*$AC$20","v":13},{"$f":"$H25*$AD$20","v":0},{"$f":"$I25*$AE$20","v":26},{"$f":"SUM(AA25:AE25)","v":65},null,null,{"$f":"IF($E25>0,$E25*$AI$21,\"\")","v":""},{"$f":"IF($F25>0,$F25*$AJ$21,\"\")","v":18},{"$f":"IF($G25>0,$G25*$AK$21,\"\")","v":9},{"$f":"IF($H25>0,$H25*$AL$21,\"\")","v":""},{"$f":"IF($I25>0,$I25*$AM$21,\"\")","v":22},{"$f":"SUM(AI25:AM25)","v":49},null,null,{"$f":"IF($E25>0,$E25*$AQ$22,\"\")","v":""},{"$f":"IF($F25>0,$F25*$AR$22,\"\")","v":22},{"$f":"IF($G25>0,$G25*$AS$22,\"\")","v":10},{"$f":"IF($H25>0,$H25*$AT$22,\"\")","v":""},{"$f":"IF($I25>0,$I25*$AU$22,\"\")","v":22},{"$f":"SUM(AQ25:AU25)","v":54}]
[null,null,null,null,null,null,null,null,null,0,null,0,0,{"$f":"IF($D26=0,\"\",IF($D26=\"NÃO\",SUM(AA26:AE26),SUM(AA42:AE42)))","v":""},{"$f":"IF($D26=0,\"\",IF($D26=\"NÃO\",SUM(AI26:AM26),SUM(AI42:AM42)))","v":""},{"$f":"IF($D26=0,\"\",IF($D26=\"NÃO\",SUM(AQ26:AU26),SUM(AQ42:AU42)))","v":""},0,null,0,0,null,null,null,0,null,null,0,0,0,0,0,0,null,null,"","","","","",0,null,null,"","","","","",0]
[null,null,null,null,null,null,null,null,null,0,null,0,0,"","","",0,null,0,0,null,null,null,0,null,null,0,0,0,0,0,0,null,null,"","","","","",0,null,null,"","","","","",0]
[null,null,null,null,null,null,null,null,null,0,null,0,0,"","","",0,null,0,0,null,null,null,0,null,null,0,0,0,0,0,0,null,null,"","","","","",0,null,null,"","","","","",0]
[null,null,null,null,null,null,null,null,null,0,null,0,0,"",{"$f":"IF($D29=0,\"\",IF($D29=\"NÃO\",SUM(AI29:AM29),SUM(AI45:AM45)))","v":""},"",0,null,0,0,null,null,null,0,null,null,0,0,0,0,0,0,null,null,"","","","","",0,null,null,"","","","","",0]
[null,null,null,null,null,null,null,null,null,0,null,0,0,"","","",0,null,0,0,null,null,null,0,null,null,0,0,0,0,0,0,null,null,"","","","","",0,null,null,"","","","","",0]
[null,null,null,null,null,null,null,null,null,0,null,0,0,"","","",0,null,0,0,null,null,null,0,null,null,0,0,{"$f":"$G31*$AC$20","v":0},0,{"$f":"$I31*$AE$20","v":0},0,null,null,"","","","","",0,null,null,"","","","","",0]
[null,null,null,null,null,null,null,null,null,0,null,0,0,"",{"$f":"IF($D32=0,\"\",IF($D32=\"NÃO\",SUM(AI32:AM32),SUM(AI48:AM48)))","v":""},"",0,null,0,0,null,null,null,0,null,null,0,0,0,0,0,0,null,null,"","","","","",0,null,null,"","","","","",0]
[null,null,null,null,null,null,null,null,null,0,null,0,0,"","","",0,null,0,0,null,null,null,0,null,null,0,0,0,0,0,0,null,null,"","","","","",0,null,null,"","","","","",0]
[null,null,null,null,null,null,null,null,null,0,null,0,0,{"$f":"IF($D34=0,\"\",IF($D34=\"NÃO\",SUM(AA34:AE34),SUM(AA50:AE50)))","v":""},{"$f":"IF($D34=0,\"\",IF($D34=\"NÃO\",SUM(AI34:AM34),SUM(AI50:AM50)))","v":""},{"$f":"IF($D34=0,\"\",IF($D34=\"NÃO\",SUM(AQ34:AU34),SUM(AQ50:AU50)))","v":""},0,null,{"$f":"B34","v":0},{"$f":"C34","v":0},null,null,null,0,null,null,0,0,0,0,0,{"$f":"SUM(AA34:AE34)","v":0},null,null,"","","","","",{"$f":"SUM(AI34:AM34)","v":0},null,null,"","","","","",{"$f":"SUM(AQ34:AU34)","v":0}]
[null,null,null,null,null,null,null,null,null,0,null,0,0,"","","",0,null,0,0,null,null,null,0,null,null,0,0,0,0,0,0,null,null,"","","","","",0,null,null,"","","","","",0]
[]
[null,null,null,null,null,null,null,null,null,null,null,null,null,null,null,null,null,null,null,null,null,null,null,null,null,"1ºP",{"$f":"ANUAL!$B22","v":13},{"$f":"ANUAL!$B23","v":13},{"$f":"ANUAL!$B24","v":13},{"$f":"ANUAL!$B25","v":13},{"$f":"ANUAL!$B26","v":13},{"$f":"SUM(AA37:AE37)","v":65},null,"2ºP",{"$f":"ANUAL!$B29","v":9},{"$f":"ANUAL!$B30","v":9},{"$f":"ANUAL!$B31","v":9},{"$f":"ANUAL!$B32","v":11},{"$f":"ANUAL!$B33","v":11},null,null,"3ºP",{"$f":"ANUAL!$B36","v":9},{"$f":"ANUAL!$B37","v":10},{"$f":"ANUAL!$B38","v":9},{"$f":"ANUAL!$B39","v":9},{"$f":"ANUAL!$B40","v":10}]
[null,"Contatos",null,null,null,null,null,null,null,null,null,"Reuniões",null,null,null,null,null,null,"Reuniões"]
[null,null,null,null,null,null,null,null,null,null,null,null,null,null,null,null,null,null,null,null,null,null,null,null,null,null,"SEG.","TER.","QUA.","QUI.","SEX.","TOTAL",null,null,"SEG.","TER.","QUA.","QUI.","SEX.","TOTAL",null,null,"SEG.","TER.","QUA.","QUI.","SEX.","TOTAL"]
[null,"TURMA","   DIRETOR(A) DE TURMA",null,null,null,null,"CONTATO",null,null,null,"TURMA","DATA",null,"HORA",null,"LOCAL",null,"TURMA","DATA",null,"HORA",null,"LOCAL",null,null,{"$f":"$E24*$AA$37","v":26},{"$f":"$F24*$AB$37","v":0},{"$f":"$G24*$AC$37","v":26},{"$f":"$H24*$AD$37","v":13},{"$f":"$I24*$AE$37","v":0},{"$f":"SUM(AA40:AE40)","v":65},null,null,{"$f":"$E24*$AI$37","v":18},{"$f":"$F24*$AJ$37","v":0},{"$f":"$G24*$AK$37","v":18},{"$f":"$H24*$AL$37","v":11},{"$f":"$I24*$AM$37","v":0},{"$f":"SUM(AI40:AM40)","v":47},null,null,{"$f":"$E24*$AQ$37","v":18},{"$f":"$F24*$AR$37","v":0},{"$f":"$G24*$AS$37","v":18},{"$f":"$H24*$AT$37","v":9},{"$f":"$I24*$AU$37","v":0},{"$f":"SUM(AQ40:AU40)","v":45}]
[null,null,null,null,null,null,null,null,null,null,null,null,null,null,null,null,null,null,null,null,null,null,null,null,null,null,{"$f":"$E25*$AA$37","v":0},{"$f":"$F25*$AB$37","v":26},{"$f":"$G25*$AC$37","v":13},{"$f":"$H25*$AD$37","v":0},{"$f":"$I25*$AE$37","v":26},{"$f":"SUM(AA41:AE41)","v":65},null,null,{"$f":"$E25*$AI$37","v":0},{"$f":"$F25*$AJ$37","v":18},{"$f":"$G25*$AK$37","v":9},{"$f":"$H25*$AL$37","v":0},{"$f":"$I25*$AM$37","v":22},{"$f":"SUM(AI41:AM41)","v":49},null,null,{"$f":"$E25*$AQ$37","v":0},{"$f":"$F25*$AR$37","v":20},{"$f":"$G25*$AS$37","v":9},{"$f":"$H25*$AT$37","v":0},{"$f":"$I25*$AU$37","v":20},{"$f":"SUM(AQ41:AU41)","v":49}]
[null,null,null,null,null,null,null,null,null,null,null,null,null,null,null,null,null,null,null,null,null,null,null,null,null,null,0,0,0,0,0,0,null,null,0,0,0,0,0,0,null,null,0,0,0,0,0,0]
[null,null,null,null,null,null,null,null,null,null,null,null,null,null,null,null,null,null,null,null,null,null,null,null,null,null,0,0,0,0,0,0,null,null,0,0,0,0,0,0,null,null,0,0,0,0,0,0]
[null,null,null,null,null,null,null,null,null,null,null,null,null,null,null,null,null,null,null,null,null,null,null,null,null,null,0,0,0,0,0,0,null,null,0,0,0,0,0,0,null,null,0,0,0,0,0,0]
[null,null,null,null,null,null,null,null,null,null,null,null,null,null,null,null,null,null,null,null,null,null,null,null,null,null,0,0,0,0,0,0,null,null,0,0,0,0,0,0,null,null,0,0,0,0,0,0]
[null,null,null,null,null,null,null,null,null,null,null,null,null,null,null,null,null,null,null,null,null,null,null,null,null,null,0,0,0,0,0,0,null,null,0,0,0,0,0,0,null,null,0,0,0,0,0,0]
[null,null,null,null,null,null,null,null,null,null,null,null,null,null,null,null,null,null,null,null,null,null,null,null,null,null,0,0,0,0,0,0,null,null,0,0,0,0,0,0,null,null,0,0,0,0,0,0]
[null,null,null,null,null,null,null,null,null,null,null,null,null,null,null,null,null,null,null,null,null,null,null,null,null,null,0,0,0,0,0,0,null,null,0,0,0,0,0,0,null,null,0,0,0,0,0,0]
[null,null,null,null,null,null,null,null,null,null,null,null,null,null,null,null,null,null,null,null,null,null,null,null,null,null,0,0,0,0,0,0,null,null,0,0,0,0,0,0,null,null,0,0,0,0,0,0]
[null,null,null,null,null,null,null,null,null,null,null,null,null,null,null,null,null,null,null,null,null,null,null,null,null,null,0,0,0,0,0,{"$f":"SUM(AA50:AE50)","v":0},null,null,0,0,0,0,0,{"$f":"SUM(AI50:AM50)","v":0},null,null,0,0,0,0,0,{"$f":"SUM(AQ50:AU50)","v":0}]
[null,null,null,null,null,null,null,null,null,null,null,null,null,null,null,null,null,null,null,null,null,null,null,null,null,null,0,0,0,0,0,0,null,null,0,0,0,0,0,0,null,null,0,0,0,0,0,0]
[]
[]
[]
[null,"Contatos",null,null,null,null,null,null,null,null,null,"Reuniões",null,null,null,null,null,null,"Reuniões"]
[]
[null,"TURMA","  NOME",null,null,null,null,"CONTATO",null,null,null,"TURMA","DATA",null,"HORA",null,"LOCAL",null,"TURMA","DATA",null,"HORA",null,"LOCAL"]

{"sheet":"PERIODOS","index":5,"n_rows":62,"n_cols":69,"rows_kept":62,"cut":false,"hidden":false,"merged":[[46,0,46,1],[18,3,18,9],[19,7,19,8],[19,9,19,10],[0,3,0,9],[0,11,0,15],[19,3,19,4],[19,5,19,6],[41,0,45,0],[0,17,0,23],[19,21,19,22],[19,23,19,24],[18,11,18,15],[18,17,18,23],[19,13,19,14],[19,15,19,16],[19,17,19,18],[19,19,19,20],[19,11,19,12],[53,0,55,0],[53,1,54,1],[47,0,48,0],[47,1,48,1],[49,0,49,1],[50,0,51,0],[50,1,51,1]]}
[]
[]
[]
[]
[]
[]
[]
[]
[{"$f":"ANUAL!A9","v":0},{"$f":"ANUAL!B9","v":2012},{"$f":"ANUAL!C9","v":"Páscoa"},{"$f":"ANUAL!D9","v":0},{"$f":"ANUAL!E9","v":0},{"$f":"ANUAL!F9","v":41007},{"$f":"ANUAL!G9","v":0},{"$f":"ANUAL!H9","v":0},{"$f":"ANUAL!I9","v":0},{"$f":"ANUAL!J9","v":0},{"$f":"ANUAL!K9","v":0},{"$f":"ANUAL!L9","v":0},{"$f":"ANUAL!M9","v":0},{"$f":"ANUAL!N9","v":0},{"$f":"ANUAL!O9","v":0},{"$f":"ANUAL!P9","v":0},{"$f":"ANUAL!Q9","v":0},{"$f":"ANUAL!R9","v":0},{"$f":"ANUAL!S9","v":0},{"$f":"ANUAL!T9","v":0},{"$f":"ANUAL!U9","v":0},{"$f":"ANUAL!V9","v":0},{"$f":"ANUAL!W9","v":0},{"$f":"ANUAL!X9","v":0},{"$f":"ANUAL!Y9","v":0},{"$f":"ANUAL!Z9","v":0},{"$f":"ANUAL!AA9","v":0},{"$f":"ANUAL!AB9","v":0},{"$f":"ANUAL!AC9","v":0},{"$f":"ANUAL!AD9","v":2013},{"$f":"ANUAL!AE9","v":"Páscoa"},{"$f":"ANUAL!AF9","v":0},{"$f":"ANUAL!AG9","v":0},{"$f":"ANUAL!AH9","v":41364},{"$f":"ANUAL!AI9","v":0},{"$f":"ANUAL!AJ9","v":0},{"$f":"ANUAL!AK9","v":"pas1"}]
[{"$f":"ANUAL!A10","v":0},{"$f":"ANUAL!B10","v":0},{"$f":"ANUAL!C10","v":"Carnaval"},{"$f":"ANUAL!D10","v":0},{"$f":"ANUAL!E10","v":0},{"$f":"ANUAL!F10","v":40960},{"$f":"ANUAL!G10","v":0},{"$f":"ANUAL!H10","v":0},{"$f":"ANUAL!I10","v":0},{"$f":"ANUAL!J10","v":0},{"$f":"ANUAL!K10","v":0},{"$f":"ANUAL!L10","v":0},{"$f":"ANUAL!M10","v":0},{"$f":"ANUAL!N10","v":0},{"$f":"ANUAL!O10","v":0},{"$f":"ANUAL!P10","v":0},{"$f":"ANUAL!Q10","v":0},{"$f":"ANUAL!R10","v":0},{"$f":"ANUAL!S10","v":0},{"$f":"ANUAL!T10","v":0},{"$f":"ANUAL!U10","v":0},{"$f":"ANUAL!V10","v":0},{"$f":"ANUAL!W10","v":0},{"$f":"ANUAL!X10","v":0},{"$f":"ANUAL!Y10","v":0},{"$f":"ANUAL!Z10","v":0},{"$f":"ANUAL!AA10","v":0},{"$f":"ANUAL!AB10","v":0},{"$f":"ANUAL!AC10","v":0},{"$f":"ANUAL!AD10","v":0},{"$f":"ANUAL!AE10","v":"Carnaval"},{"$f":"ANUAL!AF10","v":0},{"$f":"ANUAL!AG10","v":0},{"$f":"ANUAL!AH10","v":41317},{"$f":"ANUAL!AI10","v":0},{"$f":"ANUAL!AJ10","v":0},{"$f":"ANUAL!AK10","v":"car1"}]
[{"$f":"ANUAL!A11","v":0},{"$f":"ANUAL!B11","v":0},{"$f":"ANUAL!C11","v":"Quarta Cinzas"},{"$f":"ANUAL!D11","v":0},{"$f":"ANUAL!E11","v":0},{"$f":"ANUAL!F11","v":40961},{"$f":"ANUAL!G11","v":0},{"$f":"ANUAL!H11","v":0},{"$f":"ANUAL!I11","v":0},{"$f":"ANUAL!J11","v":0},{"$f":"ANUAL!K11","v":0},{"$f":"ANUAL!L11","v":0},{"$f":"ANUAL!M11","v":0},{"$f":"ANUAL!N11","v":0},{"$f":"ANUAL!O11","v":0},{"$f":"ANUAL!P11","v":0},{"$f":"ANUAL!Q11","v":0},{"$f":"ANUAL!R11","v":0},{"$f":"ANUAL!S11","v":0},{"$f":"ANUAL!T11","v":0},{"$f":"ANUAL!U11","v":0},{"$f":"ANUAL!V11","v":0},{"$f":"ANUAL!W11","v":0},{"$f":"ANUAL!X11","v":0},{"$f":"ANUAL!Y11","v":0},{"$f":"ANUAL!Z11","v":0},{"$f":"ANUAL!AA11","v":0},{"$f":"ANUAL!AB11","v":0},{"$f":"ANUAL!AC11","v":0},{"$f":"ANUAL!AD11","v":0},{"$f":"ANUAL!AE11","v":"Quarta Cinzas"},{"$f":"ANUAL!AF11","v":0},{"$f":"ANUAL!AG11","v":0},{"$f":"ANUAL!AH11","v":41318},{"$f":"ANUAL!AI11","v":0},{"$f":"ANUAL!AJ11","v":0},{"$f":"ANUAL!AK11","v":"qc1"}]
[{"$f":"ANUAL!A12","v":0},{"$f":"ANUAL!B12","v":0},{"$f":"ANUAL!C12","v":"Sexta Santa"},{"$f":"ANUAL!D12","v":0},{"$f":"ANUAL!E12","v":0},{"$f":"ANUAL!F12","v":41005},{"$f":"ANUAL!G12","v":0},{"$f":"ANUAL!H12","v":0},{"$f":"ANUAL!I12","v":0},{"$f":"ANUAL!J12","v":0},{"$f":"ANUAL!K12","v":0},{"$f":"ANUAL!L12","v":0},{"$f":"ANUAL!M12","v":0},{"$f":"ANUAL!N12","v":0},{"$f":"ANUAL!O12","v":0},{"$f":"ANUAL!P12","v":0},{"$f":"ANUAL!Q12","v":0},{"$f":"ANUAL!R12","v":0},{"$f":"ANUAL!S12","v":0},{"$f":"ANUAL!T12","v":0},{"$f":"ANUAL!U12","v":0},{"$f":"ANUAL!V12","v":0},{"$f":"ANUAL!W12","v":0},{"$f":"ANUAL!X12","v":0},{"$f":"ANUAL!Y12","v":0},{"$f":"ANUAL!Z12","v":0},{"$f":"ANUAL!AA12","v":0},{"$f":"ANUAL!AB12","v":0},{"$f":"ANUAL!AC12","v":0},{"$f":"ANUAL!AD12","v":0},{"$f":"ANUAL!AE12","v":"Sexta Santa"},{"$f":"ANUAL!AF12","v":0},{"$f":"ANUAL!AG12","v":0},{"$f":"ANUAL!AH12","v":41362},{"$f":"ANUAL!AI12","v":0},{"$f":"ANUAL!AJ12","v":0},{"$f":"ANUAL!AK12","v":"ss1"}]
[{"$f":"ANUAL!A13","v":0},{"$f":"ANUAL!B13","v":0},{"$f":"ANUAL!C13","v":"Corpo Deus"},{"$f":"ANUAL!D13","v":0},{"$f":"ANUAL!E13","v":0},{"$f":"ANUAL!F13","v":41067},{"$f":"ANUAL!G13","v":0},{"$f":"ANUAL!H13","v":0},{"$f":"ANUAL!I13","v":0},{"$f":"ANUAL!J13","v":0},{"$f":"ANUAL!K13","v":0},{"$f":"ANUAL!L13","v":0},{"$f":"ANUAL!M13","v":0},{"$f":"ANUAL!N13","v":0},{"$f":"ANUAL!O13","v":0},{"$f":"ANUAL!P13","v":0},{"$f":"ANUAL!Q13","v":0},{"$f":"ANUAL!R13","v":0},{"$f":"ANUAL!S13","v":0},{"$f":"ANUAL!T13","v":0},{"$f":"ANUAL!U13","v":0},{"$f":"ANUAL!V13","v":0},{"$f":"ANUAL!W13","v":0},{"$f":"ANUAL!X13","v":0},{"$f":"ANUAL!Y13","v":0},{"$f":"ANUAL!Z13","v":0},{"$f":"ANUAL!AA13","v":0},{"$f":"ANUAL!AB13","v":0},{"$f":"ANUAL!AC13","v":0},{"$f":"ANUAL!AD13","v":0},{"$f":"ANUAL!AE13","v":"Corpo Deus"},{"$f":"ANUAL!AF13","v":0},{"$f":"ANUAL!AG13","v":0},{"$f":"ANUAL!AH13","v":41424},{"$f":"ANUAL!AI13","v":0},{"$f":"ANUAL!AJ13","v":0},{"$f":"ANUAL!AK13","v":"cd1"}]
[{"$f":"ANUAL!A15","v":0},{"$f":"ANUAL!B15","v":0},{"$f":"ANUAL!C15","v":0},{"$f":"ANUAL!D15","v":"pré-esc., 1º, 2º, 3º, 4º, 5º, 7º, 8º e 10º anos"},{"$f":"ANUAL!E15","v":0},{"$f":"ANUAL!F15","v":0},{"$f":"ANUAL!G15","v":0},{"$f":"ANUAL!H15","v":0},{"$f":"ANUAL!I15","v":"datas para: 6º, 9º 11º e 12º anos"},{"$f":"ANUAL!J15","v":0},{"$f":"ANUAL!K15","v":0},{"$f":"ANUAL!L15","v":0},{"$f":"ANUAL!M15","v":0},{"$f":"ANUAL!N15","v":0},{"$f":"ANUAL!O15","v":0}]
[{"$f":"ANUAL!A16","v":0},{"$f":"ANUAL!B16","v":0},{"$f":"ANUAL!C16","v":0},{"$f":"ANUAL!D16","v":"sem exames"},{"$f":"ANUAL!E16","v":"1º P"},{"$f":"ANUAL!F16","v":"2º P"},{"$f":"ANUAL!G16","v":"3º P"},{"$f":"ANUAL!H16","v":0},{"$f":"ANUAL!I16","v":"com exames"},{"$f":"ANUAL!J16","v":"1º P"},{"$f":"ANUAL!K16","v":"2º P"},{"$f":"ANUAL!L16","v":"3º P"},{"$f":"ANUAL!M16","v":0},{"$f":"ANUAL!N16","v":"ANO LETIVO"},{"$f":"ANUAL!O16","v":0}]
[{"$f":"ANUAL!A17","v":0},{"$f":"ANUAL!B17","v":0},{"$f":"ANUAL!C17","v":0},{"$f":"ANUAL!D17","v":"início"},{"$f":"ANUAL!E17","v":41165},{"$f":"ANUAL!F17","v":41277},{"$f":"ANUAL!G17","v":41366},{"$f":"ANUAL!H17","v":0},{"$f":"ANUAL!I17","v":"início"},{"$f":"ANUAL!J17","v":41165},{"$f":"ANUAL!K17","v":41277},{"$f":"ANUAL!L17","v":41366},{"$f":"ANUAL!M17","v":0},{"$f":"ANUAL!N17","v":2012},{"$f":"ANUAL!O17","v":2013}]
[{"$f":"ANUAL!A18","v":0},{"$f":"ANUAL!B18","v":0},{"$f":"ANUAL!C18","v":0},{"$f":"ANUAL!D18","v":"fim"},{"$f":"ANUAL!E18","v":41257},{"$f":"ANUAL!F18","v":41348},{"$f":"ANUAL!G18","v":41439},{"$f":"ANUAL!H18","v":41460},{"$f":"ANUAL!I18","v":"fim"},{"$f":"ANUAL!J18","v":41257},{"$f":"ANUAL!K18","v":41348},{"$f":"ANUAL!L18","v":41432},{"$f":"ANUAL!M18","v":0},{"$f":"ANUAL!N18","v":0},{"$f":"ANUAL!O18","v":0},null,null,null,null,null,null,null,null,null,null,null,null,null,null,null,null,null,null,null,{"$f":"ANUAL!AI18","v":"CONTAGEM DE FERIADOS PARA PREVISTAS"},{"$f":"ANUAL!AJ18","v":0},{"$f":"ANUAL!AK18","v":0},{"$f":"ANUAL!AL18","v":0},{"$f":"ANUAL!AM18","v":0},{"$f":"ANUAL!AN18","v":0},{"$f":"ANUAL!AO18","v":0},{"$f":"ANUAL!AP18","v":false},{"$f":"ANUAL!AQ18","v":0},{"$f":"ANUAL!AR18","v":false},{"$f":"ANUAL!AS18","v":0},{"$f":"ANUAL!AT18","v":false},{"$f":"ANUAL!AU18","v":0},{"$f":"ANUAL!AV18","v":false},{"$f":"ANUAL!AW18","v":0},{"$f":"ANUAL!AX18","v":true},{"$f":"ANUAL!AY18","v":0},{"$f":"ANUAL!AZ18","v":true},{"$f":"ANUAL!BA18","v":0},{"$f":"ANUAL!BB18","v":true},{"$f":"ANUAL!BC18","v":0},{"$f":"ANUAL!BD18","v":false},{"$f":"ANUAL!BE18","v":0},{"$f":"ANUAL!BF18","v":false},{"$f":"ANUAL!BG18","v":0},{"$f":"ANUAL!BH18","v":true},{"$f":"ANUAL!BI18","v":0},{"$f":"ANUAL!BJ18","v":true},{"$f":"ANUAL!BK18","v":0},{"$f":"ANUAL!BL18","v":true},{"$f":"ANUAL!BM18","v":0},{"$f":"ANUAL!BN18","v":true},{"$f":"ANUAL!BO18","v":0},{"$f":"ANUAL!BP18","v":false},{"$f":"ANUAL!BQ18","v":0}]
[null,{"$f":"ANUAL!B19","v":0},{"$f":"ANUAL!C19","v":0}]
[{"$f":"ANUAL!A20","v":"sem exame"},{"$f":"ANUAL!B20","v":"com exame"},null,"1º PERÍODO",null,null,null,null,null,null,{"$f":"ANUAL!AP15","v":"ANO LETIVO 2012 - 2013"},"2º PERÍODO",null,null,null,null,{"$f":"ANUAL!AP15","v":"ANO LETIVO 2012 - 2013"},"3º PERÍODO",null,null,null,null,null,null,{"$f":"ANUAL!AP15","v":"ANO LETIVO 2012 - 2013"}]
[{"$f":"ANUAL!A21","v":"1º P"},{"$f":"ANUAL!B21","v":0},{"$f":"ANUAL!C21","v":0},{"$f":"ANUAL!D21","v":"SET"},null,{"$f":"ANUAL!E21","v":"OUT"},null,{"$f":"ANUAL!F21","v":"NOV"},null,{"$f":"ANUAL!G21","v":"DEZ"},null,{"$f":"ANUAL!H21","v":"JAN"},null,{"$f":"ANUAL!I21","v":"FEV"},null,{"$f":"ANUAL!J21","v":"MAR"},null,{"$f":"ANUAL!K21","v":"ABR"},null,{"$f":"ANUAL!L21","v":"MAI"},null,{"$f":"ANUAL!M21","v":"JUN"},null,{"$f":"ANUAL!N21","v":"JUL"}]
[{"$f":"ANUAL!A22","v":13},{"$f":"ANUAL!B22","v":13},{"$f":"ANUAL!C22","v":2},{"$f":"ANUAL!D22","v":0},null,{"$f":"ANUAL!E22","v":1},null,{"$f":"ANUAL!F22","v":0},null,{"$f":"ANUAL!G22","v":0},null,{"$f":"ANUAL!H22","v":0},null,{"$f":"ANUAL!I22","v":0},null,{"$f":"ANUAL!J22","v":0},null,{"$f":"ANUAL!K22","v":1},null,{"$f":"ANUAL!L22","v":0},null,{"$f":"ANUAL!M22","v":0},null,{"$f":"ANUAL!N22","v":1}]
[{"$f":"ANUAL!A23","v":13},{"$f":"ANUAL!B23","v":13},{"$f":"ANUAL!C23","v":3},{"$f":"ANUAL!D23","v":0},null,{"$f":"ANUAL!E23","v":2},null,{"$f":"ANUAL!F23","v":0},null,{"$f":"ANUAL!G23","v":0},null,{"$f":"ANUAL!H23","v":1},null,{"$f":"ANUAL!I23","v":0},null,{"$f":"ANUAL!J23","v":0},null,{"$f":"ANUAL!K23","v":2},null,{"$f":"ANUAL!L23","v":0},null,{"$f":"ANUAL!M23","v":0},null,{"$f":"ANUAL!N23","v":2}]
[{"$f":"ANUAL!A24","v":13},{"$f":"ANUAL!B24","v":13},{"$f":"ANUAL!C24","v":4},{"$f":"ANUAL!D24","v":0},null,{"$f":"ANUAL!E24","v":3},null,{"$f":"ANUAL!F24","v":0},null,{"$f":"ANUAL!G24","v":0},null,{"$f":"ANUAL!H24","v":2},null,{"$f":"ANUAL!I24","v":0},null,{"$f":"ANUAL!J24","v":0},null,{"$f":"ANUAL!K24","v":3},null,{"$f":"ANUAL!L24","v":1},null,{"$f":"ANUAL!M24","v":0},null,{"$f":"ANUAL!N24","v":3}]
[{"$f":"ANUAL!A25","v":13},{"$f":"ANUAL!B25","v":13},{"$f":"ANUAL!C25","v":5},{"$f":"ANUAL!D25","v":0},null,{"$f":"ANUAL!E25","v":4},null,{"$f":"ANUAL!F25","v":1},null,{"$f":"ANUAL!G25","v":0},null,{"$f":"ANUAL!H25","v":3},null,{"$f":"ANUAL!I25","v":0},null,{"$f":"ANUAL!J25","v":0},null,{"$f":"ANUAL!K25","v":4},null,{"$f":"ANUAL!L25","v":2},null,{"$f":"ANUAL!M25","v":0},null,{"$f":"ANUAL!N25","v":4}]
[{"$f":"ANUAL!A26","v":13},{"$f":"ANUAL!B26","v":13},{"$f":"ANUAL!C26","v":6},{"$f":"ANUAL!D26","v":0},null,{"$f":"ANUAL!E26","v":5},null,{"$f":"ANUAL!F26","v":2},null,{"$f":"ANUAL!G26","v":0},null,{"$f":"ANUAL!H26","v":4},null,{"$f":"ANUAL!I26","v":1},null,{"$f":"ANUAL!J26","v":1},null,{"$f":"ANUAL!K26","v":5},null,{"$f":"ANUAL!L26","v":3},null,{"$f":"ANUAL!M26","v":0},null,{"$f":"ANUAL!N26","v":5}]
[{"$f":"ANUAL!A27","v":0},{"$f":"ANUAL!B27","v":0},{"$f":"ANUAL!C27","v":"SA"},{"$f":"ANUAL!D27","v":1},null,{"$f":"ANUAL!E27","v":6},null,{"$f":"ANUAL!F27","v":3},null,{"$f":"ANUAL!G27","v":1},null,{"$f":"ANUAL!H27","v":5},null,{"$f":"ANUAL!I27","v":2},null,{"$f":"ANUAL!J27","v":2},null,{"$f":"ANUAL!K27","v":6},null,{"$f":"ANUAL!L27","v":4},null,{"$f":"ANUAL!M27","v":1},null,{"$f":"ANUAL!N27","v":6}]
[{"$f":"ANUAL!A28","v":"2º P"},{"$f":"ANUAL!B28","v":0},{"$f":"ANUAL!C28","v":"DO"},{"$f":"ANUAL!D28","v":2},null,{"$f":"ANUAL!E28","v":7},null,{"$f":"ANUAL!F28","v":4},null,{"$f":"ANUAL!G28","v":2},null,{"$f":"ANUAL!H28","v":6},null,{"$f":"ANUAL!I28","v":3},null,{"$f":"ANUAL!J28","v":3},null,{"$f":"ANUAL!K28","v":7},null,{"$f":"ANUAL!L28","v":5},null,{"$f":"ANUAL!M28","v":2},null,{"$f":"ANUAL!N28","v":7}]
[{"$f":"ANUAL!A29","v":9},{"$f":"ANUAL!B29","v":9},{"$f":"ANUAL!C29","v":2},{"$f":"ANUAL!D29","v":3},null,{"$f":"ANUAL!E29","v":8},null,{"$f":"ANUAL!F29","v":5},null,{"$f":"ANUAL!G29","v":3},null,{"$f":"ANUAL!H29","v":7},null,{"$f":"ANUAL!I29","v":4},null,{"$f":"ANUAL!J29","v":4},null,{"$f":"ANUAL!K29","v":8},null,{"$f":"ANUAL!L29","v":6},null,{"$f":"ANUAL!M29","v":3},null,{"$f":"ANUAL!N29","v":8}]
[{"$f":"ANUAL!A30","v":9},{"$f":"ANUAL!B30","v":9},{"$f":"ANUAL!C30","v":3},{"$f":"ANUAL!D30","v":4},null,{"$f":"ANUAL!E30","v":9},null,{"$f":"ANUAL!F30","v":6},null,{"$f":"ANUAL!G30","v":4},null,{"$f":"ANUAL!H30","v":8},null,{"$f":"ANUAL!I30","v":5},null,{"$f":"ANUAL!J30","v":5},null,{"$f":"ANUAL!K30","v":9},null,{"$f":"ANUAL!L30","v":7},null,{"$f":"ANUAL!M30","v":4},null,{"$f":"ANUAL!N30","v":9}]
[{"$f":"ANUAL!A31","v":9},{"$f":"ANUAL!B31","v":9},{"$f":"ANUAL!C31","v":4},{"$f":"ANUAL!D31","v":5},null,{"$f":"ANUAL!E31","v":10},null,{"$f":"ANUAL!F31","v":7},null,{"$f":"ANUAL!G31","v":5},null,{"$f":"ANUAL!H31","v":9},null,{"$f":"ANUAL!I31","v":6},null,{"$f":"ANUAL!J31","v":6},null,{"$f":"ANUAL!K31","v":10},null,{"$f":"ANUAL!L31","v":8},null,{"$f":"ANUAL!M31","v":5},null,{"$f":"ANUAL!N31","v":10}]
[{"$f":"ANUAL!A32","v":11},{"$f":"ANUAL!B32","v":11},{"$f":"ANUAL!C32","v":5},{"$f":"ANUAL!D32","v":6},null,{"$f":"ANUAL!E32","v":11},null,{"$f":"ANUAL!F32","v":8},null,{"$f":"ANUAL!G32","v":6},null,{"$f":"ANUAL!H32","v":10},null,{"$f":"ANUAL!I32","v":7},null,{"$f":"ANUAL!J32","v":7},null,{"$f":"ANUAL!K32","v":11},null,{"$f":"ANUAL!L32","v":9},null,{"$f":"ANUAL!M32","v":6},null,{"$f":"ANUAL!N32","v":11}]
[{"$f":"ANUAL!A33","v":11},{"$f":"ANUAL!B33","v":11},{"$f":"ANUAL!C33","v":6},{"$f":"ANUAL!D33","v":7},null,{"$f":"ANUAL!E33","v":12},null,{"$f":"ANUAL!F33","v":9},null,{"$f":"ANUAL!G33","v":7},null,{"$f":"ANUAL!H33","v":11},null,{"$f":"ANUAL!I33","v":8},null,{"$f":"ANUAL!J33","v":8},null,{"$f":"ANUAL!K33","v":12},null,{"$f":"ANUAL!L33","v":10},null,{"$f":"ANUAL!M33","v":7},null,{"$f":"ANUAL!N33","v":12}]
[{"$f":"ANUAL!A34","v":0},{"$f":"ANUAL!B34","v":0},{"$f":"ANUAL!C34","v":"SA"},{"$f":"ANUAL!D34","v":8},null,{"$f":"ANUAL!E34","v":13},null,{"$f":"ANUAL!F34","v":10},null,{"$f":"ANUAL!G34","v":8},null,{"$f":"ANUAL!H34","v":12},null,{"$f":"ANUAL!I34","v":9},null,{"$f":"ANUAL!J34","v":9},null,{"$f":"ANUAL!K34","v":13},null,{"$f":"ANUAL!L34","v":11},null,{"$f":"ANUAL!M34","v":8},null,{"$f":"ANUAL!N34","v":13}]
[{"$f":"ANUAL!A35","v":"3º P"},{"$f":"ANUAL!B35","v":0},{"$f":"ANUAL!C35","v":"DO"},{"$f":"ANUAL!D35","v":9},null,{"$f":"ANUAL!E35","v":14},null,{"$f":"ANUAL!F35","v":11},null,{"$f":"ANUAL!G35","v":9},null,{"$f":"ANUAL!H35","v":13},null,{"$f":"ANUAL!I35","v":10},null,{"$f":"ANUAL!J35","v":10},null,{"$f":"ANUAL!K35","v":14},null,{"$f":"ANUAL!L35","v":12},null,{"$f":"ANUAL!M35","v":9},null,{"$f":"ANUAL!N35","v":14}]
[{"$f":"ANUAL!A36","v":9},{"$f":"ANUAL!B36","v":9},{"$f":"ANUAL!C36","v":2},{"$f":"ANUAL!D36","v":10},null,{"$f":"ANUAL!E36","v":15},null,{"$f":"ANUAL!F36","v":12},null,{"$f":"ANUAL!G36","v":10},null,{"$f":"ANUAL!H36","v":14},null,{"$f":"ANUAL!I36","v":11},null,{"$f":"ANUAL!J36","v":11},null,{"$f":"ANUAL!K36","v":15},null,{"$f":"ANUAL!L36","v":13},null,{"$f":"ANUAL!M36","v":10},null,{"$f":"ANUAL!N36","v":15}]
[{"$f":"ANUAL!A37","v":11},{"$f":"ANUAL!B37","v":10},{"$f":"ANUAL!C37","v":3},{"$f":"ANUAL!D37","v":11},null,{"$f":"ANUAL!E37","v":16},null,{"$f":"ANUAL!F37","v":13},null,{"$f":"ANUAL!G37","v":11},null,{"$f":"ANUAL!H37","v":15},null,{"$f":"ANUAL!I37","v":12},null,{"$f":"ANUAL!J37","v":12},null,{"$f":"ANUAL!K37","v":16},null,{"$f":"ANUAL!L37","v":14},null,{"$f":"ANUAL!M37","v":11},null,{"$f":"ANUAL!N37","v":16}]
[{"$f":"ANUAL!A38","v":10},{"$f":"ANUAL!B38","v":9},{"$f":"ANUAL!C38","v":4},{"$f":"ANUAL!D38","v":12},null,{"$f":"ANUAL!E38","v":17},null,{"$f":"ANUAL!F38","v":14},null,{"$f":"ANUAL!G38","v":12},null,{"$f":"ANUAL!H38","v":16},null,{"$f":"ANUAL!I38","v":13},null,{"$f":"ANUAL!J38","v":13},null,{"$f":"ANUAL!K38","v":17},null,{"$f":"ANUAL!L38","v":15},null,{"$f":"ANUAL!M38","v":12},null,{"$f":"ANUAL!N38","v":17}]
[{"$f":"ANUAL!A39","v":10},{"$f":"ANUAL!B39","v":9},{"$f":"ANUAL!C39","v":5},{"$f":"ANUAL!D39","v":13},null,{"$f":"ANUAL!E39","v":18},null,{"$f":"ANUAL!F39","v":15},null,{"$f":"ANUAL!G39","v":13},null,{"$f":"ANUAL!H39","v":17},null,{"$f":"ANUAL!I39","v":14},null,{"$f":"ANUAL!J39","v":14},null,{"$f":"ANUAL!K39","v":18},null,{"$f":"ANUAL!L39","v":16},null,{"$f":"ANUAL!M39","v":13},null,{"$f":"ANUAL!N39","v":18}]
[{"$f":"ANUAL!A40","v":11},{"$f":"ANUAL!B40","v":10},{"$f":"ANUAL!C40","v":6},{"$f":"ANUAL!D40","v":14},null,{"$f":"ANUAL!E40","v":19},null,{"$f":"ANUAL!F40","v":16},null,{"$f":"ANUAL!G40","v":14},null,{"$f":"ANUAL!H40","v":18},null,{"$f":"ANUAL!I40","v":15},null,{"$f":"ANUAL!J40","v":15},null,{"$f":"ANUAL!K40","v":19},null,{"$f":"ANUAL!L40","v":17},null,{"$f":"ANUAL!M40","v":14},null,{"$f":"ANUAL!N40","v":19}]
[{"$f":"ANUAL!A41","v":0},{"$f":"ANUAL!B41","v":0},{"$f":"ANUAL!C41","v":"SA"},{"$f":"ANUAL!D41","v":15},null,{"$f":"ANUAL!E41","v":20},null,{"$f":"ANUAL!F41","v":17},null,{"$f":"ANUAL!G41","v":15},null,{"$f":"ANUAL!H41","v":19},null,{"$f":"ANUAL!I41","v":16},null,{"$f":"ANUAL!J41","v":16},null,{"$f":"ANUAL!K41","v":20},null,{"$f":"ANUAL!L41","v":18},null,{"$f":"ANUAL!M41","v":15},null,{"$f":"ANUAL!N41","v":20}]
[{"$f":"ANUAL!A42","v":"3ºP"},{"$f":"ANUAL!B42","v":0},{"$f":"ANUAL!C42","v":"DO"},{"$f":"ANUAL!D42","v":16},null,{"$f":"ANUAL!E42","v":21},null,{"$f":"ANUAL!F42","v":18},null,{"$f":"ANUAL!G42","v":16},null,{"$f":"ANUAL!H42","v":20},null,{"$f":"ANUAL!I42","v":17},null,{"$f":"ANUAL!J42","v":17},null,{"$f":"ANUAL!K42","v":21},null,{"$f":"ANUAL!L42","v":19},null,{"$f":"ANUAL!M42","v":16},null,{"$f":"ANUAL!N42","v":21}]
[{"$f":"ANUAL!A43","v":"Pré- Escolar"},{"$f":"ANUAL!B43","v":12},{"$f":"ANUAL!C43","v":2},{"$f":"ANUAL!D43","v":17},null,{"$f":"ANUAL!E43","v":22},null,{"$f":"ANUAL!F43","v":19},null,{"$f":"ANUAL!G43","v":17},null,{"$f":"ANUAL!H43","v":21},null,{"$f":"ANUAL!I43","v":18},null,{"$f":"ANUAL!J43","v":18},null,{"$f":"ANUAL!K43","v":22},null,{"$f":"ANUAL!L43","v":20},null,{"$f":"ANUAL!M43","v":17},null,{"$f":"ANUAL!N43","v":22}]
[null,{"$f":"ANUAL!B44","v":14},{"$f":"ANUAL!C44","v":3},{"$f":"ANUAL!D44","v":18},null,{"$f":"ANUAL!E44","v":23},null,{"$f":"ANUAL!F44","v":20},null,{"$f":"ANUAL!G44","v":18},null,{"$f":"ANUAL!H44","v":22},null,{"$f":"ANUAL!I44","v":19},null,{"$f":"ANUAL!J44","v":19},null,{"$f":"ANUAL!K44","v":23},null,{"$f":"ANUAL!L44","v":21},null,{"$f":"ANUAL!M44","v":18},null,{"$f":"ANUAL!N44","v":23}]
[null,{"$f":"ANUAL!B45","v":13},{"$f":"ANUAL!C45","v":4},{"$f":"ANUAL!D45","v":19},null,{"$f":"ANUAL!E45","v":24},null,{"$f":"ANUAL!F45","v":21},null,{"$f":"ANUAL!G45","v":19},null,{"$f":"ANUAL!H45","v":23},null,{"$f":"ANUAL!I45","v":20},null,{"$f":"ANUAL!J45","v":20},null,{"$f":"ANUAL!K45","v":24},null,{"$f":"ANUAL!L45","v":22},null,{"$f":"ANUAL!M45","v":19},null,{"$f":"ANUAL!N45","v":24},null,null,null,null,null,null,null,null,null,null,null,null,null,null,null,null,{"$f":"ANUAL!AO45","v":"páscoa"},{"$f":"ANUAL!AP45","v":41364},{"$f":"ANUAL!AQ45","v":0},{"$f":"ANUAL!AR45","v":"março"},{"$f":"ANUAL!AS45","v":"abril"}]
[null,{"$f":"ANUAL!B46","v":13},{"$f":"ANUAL!C46","v":5},{"$f":"ANUAL!D46","v":20},null,{"$f":"ANUAL!E46","v":25},null,{"$f":"ANUAL!F46","v":22},null,{"$f":"ANUAL!G46","v":20},null,{"$f":"ANUAL!H46","v":24},null,{"$f":"ANUAL!I46","v":21},null,{"$f":"ANUAL!J46","v":21},null,{"$f":"ANUAL!K46","v":25},null,{"$f":"ANUAL!L46","v":23},null,{"$f":"ANUAL!M46","v":20},null,{"$f":"ANUAL!N46","v":25},null,null,null,null,null,null,null,null,null,null,null,null,null,null,null,null,{"$f":"ANUAL!AO46","v":14},{"$f":"ANUAL!AP46","v":41350},{"$f":"ANUAL!AQ46","v":0},{"$f":"ANUAL!AR46","v":0},{"$f":"ANUAL!AS46","v":0}]
[null,{"$f":"ANUAL!B47","v":14},{"$f":"ANUAL!C47","v":6},{"$f":"ANUAL!D47","v":21},null,{"$f":"ANUAL!E47","v":26},null,{"$f":"ANUAL!F47","v":23},null,{"$f":"ANUAL!G47","v":21},null,{"$f":"ANUAL!H47","v":25},null,{"$f":"ANUAL!I47","v":22},null,{"$f":"ANUAL!J47","v":22},null,{"$f":"ANUAL!K47","v":26},null,{"$f":"ANUAL!L47","v":24},null,{"$f":"ANUAL!M47","v":21},null,{"$f":"ANUAL!N47","v":26},null,null,null,null,null,null,null,null,null,null,null,null,null,null,null,null,{"$f":"ANUAL!AO47","v":13},{"$f":"ANUAL!AP47","v":41351},{"$f":"ANUAL!AQ47","v":0},{"$f":"ANUAL!AR47","v":18},{"$f":"ANUAL!AS47","v":""}]
[{"$f":"ANUAL!A48","v":"início"},null,{"$f":"ANUAL!C48","v":"SA"},{"$f":"ANUAL!D48","v":22},null,{"$f":"ANUAL!E48","v":27},null,{"$f":"ANUAL!F48","v":24},null,{"$f":"ANUAL!G48","v":22},null,{"$f":"ANUAL!H48","v":26},null,{"$f":"ANUAL!I48","v":23},null,{"$f":"ANUAL!J48","v":23},null,{"$f":"ANUAL!K48","v":27},null,{"$f":"ANUAL!L48","v":25},null,{"$f":"ANUAL!M48","v":22},null,{"$f":"ANUAL!N48","v":27},null,null,null,null,null,null,null,null,null,null,null,null,null,null,null,null,{"$f":"ANUAL!AO48","v":12},{"$f":"ANUAL!AP48","v":41352},{"$f":"ANUAL!AQ48","v":0},{"$f":"ANUAL!AR48","v":19},{"$f":"ANUAL!AS48","v":""}]
[{"$f":"ANUAL!A49","v":"2012-09-13"},{"$f":"ANUAL!B49","v":"2012-09-13"},{"$f":"ANUAL!C49","v":"DO"},{"$f":"ANUAL!D49","v":23},null,{"$f":"ANUAL!E49","v":28},null,{"$f":"ANUAL!F49","v":25},null,{"$f":"ANUAL!G49","v":23},null,{"$f":"ANUAL!H49","v":27},null,{"$f":"ANUAL!I49","v":24},null,{"$f":"ANUAL!J49","v":24},null,{"$f":"ANUAL!K49","v":28},null,{"$f":"ANUAL!L49","v":26},null,{"$f":"ANUAL!M49","v":23},null,{"$f":"ANUAL!N49","v":28},null,null,null,null,null,null,null,null,null,null,null,null,null,null,null,null,{"$f":"ANUAL!AO49","v":11},{"$f":"ANUAL!AP49","v":41353},{"$f":"ANUAL!AQ49","v":0},{"$f":"ANUAL!AR49","v":20},{"$f":"ANUAL!AS49","v":""}]
[null,null,{"$f":"ANUAL!C50","v":2},{"$f":"ANUAL!D50","v":24},null,{"$f":"ANUAL!E50","v":29},null,{"$f":"ANUAL!F50","v":26},null,{"$f":"ANUAL!G50","v":24},null,{"$f":"ANUAL!H50","v":28},null,{"$f":"ANUAL!I50","v":25},null,{"$f":"ANUAL!J50","v":25},null,{"$f":"ANUAL!K50","v":29},null,{"$f":"ANUAL!L50","v":27},null,{"$f":"ANUAL!M50","v":24},null,{"$f":"ANUAL!N50","v":29},null,null,null,null,null,null,null,null,null,null,null,null,null,null,null,null,{"$f":"ANUAL!AO50","v":10},{"$f":"ANUAL!AP50","v":41354},{"$f":"ANUAL!AQ50","v":0},{"$f":"ANUAL!AR50","v":21},{"$f":"ANUAL!AS50","v":""}]
[{"$f":"ANUAL!A51","v":"fim"},null,{"$f":"ANUAL!C51","v":3},{"$f":"ANUAL!D51","v":25},null,{"$f":"ANUAL!E51","v":30},null,{"$f":"ANUAL!F51","v":27},null,{"$f":"ANUAL!G51","v":25},null,{"$f":"ANUAL!H51","v":29},null,{"$f":"ANUAL!I51","v":26},null,{"$f":"ANUAL!J51","v":26},null,{"$f":"ANUAL!K51","v":30},null,{"$f":"ANUAL!L51","v":28},null,{"$f":"ANUAL!M51","v":25},null,{"$f":"ANUAL!N51","v":30},null,null,null,null,null,null,null,null,null,null,null,null,null,null,null,null,{"$f":"ANUAL!AO51","v":9},{"$f":"ANUAL!AP51","v":41355},{"$f":"ANUAL!AQ51","v":0},{"$f":"ANUAL!AR51","v":22},{"$f":"ANUAL!AS51","v":""}]
[{"$f":"ANUAL!A52","v":"2013-06-14"},{"$f":"ANUAL!B52","v":"2013-06-07"},{"$f":"ANUAL!C52","v":4},{"$f":"ANUAL!D52","v":26},null,{"$f":"ANUAL!E52","v":31},null,{"$f":"ANUAL!F52","v":28},null,{"$f":"ANUAL!G52","v":26},null,{"$f":"ANUAL!H52","v":30},null,{"$f":"ANUAL!I52","v":27},null,{"$f":"ANUAL!J52","v":27},null,{"$f":"ANUAL!K52","v":0},null,{"$f":"ANUAL!L52","v":29},null,{"$f":"ANUAL!M52","v":26},null,{"$f":"ANUAL!N52","v":31},null,null,null,null,null,null,null,null,null,null,null,null,null,null,null,null,{"$f":"ANUAL!AO52","v":8},{"$f":"ANUAL!AP52","v":41356},{"$f":"ANUAL!AQ52","v":0},{"$f":"ANUAL!AR52","v":23},{"$f":"ANUAL!AS52","v":""}]
[null,null,{"$f":"ANUAL!C53","v":5},{"$f":"ANUAL!D53","v":27},null,{"$f":"ANUAL!E53","v":0},null,{"$f":"ANUAL!F53","v":29},null,{"$f":"ANUAL!G53","v":27},null,{"$f":"ANUAL!H53","v":31},null,{"$f":"ANUAL!I53","v":28},null,{"$f":"ANUAL!J53","v":28},null,{"$f":"ANUAL!K53","v":0},null,{"$f":"ANUAL!L53","v":30},null,{"$f":"ANUAL!M53","v":27},null,{"$f":"ANUAL!N53","v":0},null,null,null,null,null,null,null,null,null,null,null,null,null,null,null,null,{"$f":"ANUAL!AO53","v":7},{"$f":"ANUAL!AP53","v":41357},{"$f":"ANUAL!AQ53","v":0},{"$f":"ANUAL!AR53","v":24},{"$f":"ANUAL!AS53","v":""}]
[{"$f":"ANUAL!A54","v":0},{"$f":"ANUAL!B54","v":0},{"$f":"ANUAL!C54","v":6},{"$f":"ANUAL!D54","v":28},null,{"$f":"ANUAL!E54","v":0},null,{"$f":"ANUAL!F54","v":30},null,{"$f":"ANUAL!G54","v":28},null,{"$f":"ANUAL!H54","v":0},null,{"$f":"ANUAL!I54","v":0},null,{"$f":"ANUAL!J54","v":29},null,{"$f":"ANUAL!K54","v":0},null,{"$f":"ANUAL!L54","v":31},null,{"$f":"ANUAL!M54","v":28},null,{"$f":"ANUAL!N54","v":0},null,null,null,null,null,null,null,null,null,null,null,null,null,null,null,null,{"$f":"ANUAL!AO54","v":6},{"$f":"ANUAL!AP54","v":41358},{"$f":"ANUAL!AQ54","v":0},{"$f":"ANUAL!AR54","v":25},{"$f":"ANUAL!AS54","v":""}]
[{"$f":"ANUAL!A55","v":"Pré- Escolar"},{"$f":"ANUAL!B55","v":"2013-07-05"},{"$f":"ANUAL!C55","v":"SA"},{"$f":"ANUAL!D55","v":29},null,{"$f":"ANUAL!E55","v":0},null,{"$f":"ANUAL!F55","v":0},null,{"$f":"ANUAL!G55","v":29},null,{"$f":"ANUAL!H55","v":0},null,{"$f":"ANUAL!I55","v":0},null,{"$f":"ANUAL!J55","v":30},null,{"$f":"ANUAL!K55","v":0},null,{"$f":"ANUAL!L55","v":0},null,{"$f":"ANUAL!M55","v":29},null,{"$f":"ANUAL!N55","v":0},null,null,null,null,null,null,null,null,null,null,null,null,null,null,null,null,{"$f":"ANUAL!AO55","v":5},{"$f":"ANUAL!AP55","v":41359},{"$f":"ANUAL!AQ55","v":0},{"$f":"ANUAL!AR55","v":26},{"$f":"ANUAL!AS55","v":""}]
[null,null,{"$f":"ANUAL!C56","v":"DO"},{"$f":"ANUAL!D56","v":30},null,{"$f":"ANUAL!E56","v":0},null,{"$f":"ANUAL!F56","v":0},null,{"$f":"ANUAL!G56","v":30},null,{"$f":"ANUAL!H56","v":0},null,{"$f":"ANUAL!I56","v":0},null,{"$f":"ANUAL!J56","v":31},null,{"$f":"ANUAL!K56","v":0},null,{"$f":"ANUAL!L56","v":0},null,{"$f":"ANUAL!M56","v":30},null,{"$f":"ANUAL!N56","v":0},null,null,null,null,null,null,null,null,null,null,null,null,null,null,null,null,{"$f":"ANUAL!AO56","v":4},{"$f":"ANUAL!AP56","v":41360},{"$f":"ANUAL!AQ56","v":0},{"$f":"ANUAL!AR56","v":27},{"$f":"ANUAL!AS56","v":""}]
[null,{"$f":"ANUAL!B57","v":0},{"$f":"ANUAL!C57","v":2},{"$f":"ANUAL!D57","v":0},null,{"$f":"ANUAL!E57","v":0},null,{"$f":"ANUAL!F57","v":0},null,{"$f":"ANUAL!G57","v":31},null,{"$f":"ANUAL!H57","v":0},null,{"$f":"ANUAL!I57","v":0},null,{"$f":"ANUAL!J57","v":0},null,{"$f":"ANUAL!K57","v":0},null,{"$f":"ANUAL!L57","v":0},null,{"$f":"ANUAL!M57","v":0},null,{"$f":"ANUAL!N57","v":0},null,null,null,null,null,null,null,null,null,null,null,null,null,null,null,null,{"$f":"ANUAL!AO57","v":3},{"$f":"ANUAL!AP57","v":41361},{"$f":"ANUAL!AQ57","v":0},{"$f":"ANUAL!AR57","v":28},{"$f":"ANUAL!AS57","v":""}]
[{"$f":"ANUAL!A58","v":0},{"$f":"ANUAL!B58","v":0},{"$f":"ANUAL!C58","v":3},{"$f":"ANUAL!D58","v":0},null,{"$f":"ANUAL!E58","v":0},null,{"$f":"ANUAL!F58","v":0},null,{"$f":"ANUAL!G58","v":0},null,{"$f":"ANUAL!H58","v":0},null,{"$f":"ANUAL!I58","v":0},null,{"$f":"ANUAL!J58","v":0},null,{"$f":"ANUAL!K58","v":0},null,{"$f":"ANUAL!L58","v":0},null,{"$f":"ANUAL!M58","v":0},null,{"$f":"ANUAL!N58","v":0},null,null,null,null,null,null,null,null,null,null,null,null,null,null,null,null,{"$f":"ANUAL!AO58","v":2},{"$f":"ANUAL!AP58","v":41362},{"$f":"ANUAL!AQ58","v":0},{"$f":"ANUAL!AR58","v":29},{"$f":"ANUAL!AS58","v":""}]
[null,null,null,null,null,null,null,null,null,null,null,null,null,null,null,null,null,null,null,null,null,null,null,null,null,null,null,null,null,null,null,null,null,null,null,null,null,null,null,null,{"$f":"ANUAL!AO59","v":1},{"$f":"ANUAL!AP59","v":41363},{"$f":"ANUAL!AQ59","v":0},{"$f":"ANUAL!AR59","v":30},{"$f":"ANUAL!AS59","v":""}]
[null,null,null,null,null,null,null,null,null,null,null,null,null,null,null,null,null,null,null,null,null,null,null,null,null,null,null,null,null,null,null,null,null,null,null,null,null,null,null,null,{"$f":"ANUAL!AO60","v":0},{"$f":"ANUAL!AP60","v":41364},{"$f":"ANUAL!AQ60","v":0},{"$f":"ANUAL!AR60","v":31},{"$f":"ANUAL!AS60","v":""}]
[null,null,null,null,null,null,null,null,null,null,null,null,null,null,null,null,null,null,null,null,null,null,null,null,null,null,null,null,null,null,null,null,null,null,null,null,null,null,null,null,{"$f":"ANUAL!AO61","v":-1},{"$f":"ANUAL!AP61","v":41365},{"$f":"ANUAL!AQ61","v":0},{"$f":"ANUAL!AR61","v":""},{"$f":"ANUAL!AS61","v":1}]
[null,null,null,null,null,null,null,null,null,null,null,null,null,null,null,null,null,null,null,null,null,null,null,null,null,null,null,null,null,null,null,null,null,null,null,null,null,null,null,null,{"$f":"ANUAL!AO62","v":0},{"$f":"ANUAL!AP62","v":0},{"$f":"ANUAL!AQ62","v":"min"},{"$f":"ANUAL!AR62","v":18},{"$f":"ANUAL!AS62","v":1}]
[null,null,null,null,null,null,null,null,null,null,null,null,null,null,null,null,null,null,null,null,null,null,null,null,null,null,null,null,null,null,null,null,null,null,null,null,null,null,null,null,{"$f":"ANUAL!AO63","v":0},{"$f":"ANUAL!AP63","v":0},{"$f":"ANUAL!AQ63","v":"max"},{"$f":"ANUAL!AR63","v":31},{"$f":"ANUAL!AS63","v":1}]

{"sheet":"CONTAR FERIAS","index":6,"n_rows":15,"n_cols":12,"rows_kept":15,"cut":false,"hidden":false,"merged":[[14,5,14,7],[13,6,13,7],[8,9,8,10],[13,9,13,10],[3,11,4,11],[7,8,7,9],[12,8,12,9],[5,6,5,7],[6,6,6,7],[7,6,7,7],[8,6,8,7],[10,6,10,7],[11,6,11,7],[12,6,12,7]]}
[]
[]
[]
[null,null,"contar período de férias",null,null,null,null,null,null,null,null,"datas de feriados"]
[]
[null,null,null,null,"1º momento",null,"data inicial",null,"2012-07-31",null,null,"2012-08-15"]
[null,null,null,null,null,null,"nº dias úteis de férias",null,25]
[]
[null,null,null,null,null,null,"último dia de férias",null,{"$f":"WORKDAY(I6,I7,L6:L14)","v":"2012-09-05"},{"$f":"CHOOSE(WEEKDAY(I9),\"domingo\",\"segunda-feira.\",\"terça-feira\",\"quarta-feira\",\"quinta-feira\",\"sexta-feira\",\"sábado\")","v":"quarta-feira"}]
[]
[null,null,null,null,"2º momento",null,"data inicial"]
[null,null,null,null,null,null,"nº dias úteis de férias"]
[]
[null,null,null,null,null,null,"último dia de férias",null,{"$f":"WORKDAY(I11,I12,L6:L14)","v":"00:00:00"},{"$f":"IF(I12=0,\"\",CHOOSE(WEEKDAY(I14),\"domingo\",\"segunda-feira.\",\"terça-feira\",\"quarta-feira\",\"quinta-feira\",\"sexta-feira\",\"sábado\"))","v":""}]
[null,null,null,null,null,"TOTAL DE DIAS DE FÉRIAS",null,null,{"$f":"I7+I12","v":25}]